BEGIN:VCALENDAR
VERSION:2.0
PRODID:-//Paisley South Church - ECPv6.15.20//NONSGML v1.0//EN
CALSCALE:GREGORIAN
METHOD:PUBLISH
X-WR-CALNAME:Paisley South Church
X-ORIGINAL-URL:https://paisleysouth.church
X-WR-CALDESC:Events for Paisley South Church
REFRESH-INTERVAL;VALUE=DURATION:PT1H
X-Robots-Tag:noindex
X-PUBLISHED-TTL:PT1H
BEGIN:VTIMEZONE
TZID:Europe/London
BEGIN:DAYLIGHT
TZOFFSETFROM:+0000
TZOFFSETTO:+0100
TZNAME:BST
DTSTART:20250330T010000
END:DAYLIGHT
BEGIN:STANDARD
TZOFFSETFROM:+0100
TZOFFSETTO:+0000
TZNAME:GMT
DTSTART:20251026T010000
END:STANDARD
BEGIN:DAYLIGHT
TZOFFSETFROM:+0000
TZOFFSETTO:+0100
TZNAME:BST
DTSTART:20260329T010000
END:DAYLIGHT
BEGIN:STANDARD
TZOFFSETFROM:+0100
TZOFFSETTO:+0000
TZNAME:GMT
DTSTART:20261025T010000
END:STANDARD
BEGIN:DAYLIGHT
TZOFFSETFROM:+0000
TZOFFSETTO:+0100
TZNAME:BST
DTSTART:20270328T010000
END:DAYLIGHT
BEGIN:STANDARD
TZOFFSETFROM:+0100
TZOFFSETTO:+0000
TZNAME:GMT
DTSTART:20271031T010000
END:STANDARD
END:VTIMEZONE
BEGIN:VEVENT
DTSTART;TZID=Europe/London:20260329T110000
DTEND;TZID=Europe/London:20260329T120000
DTSTAMP:20260423T000022
CREATED:20260216T150526Z
LAST-MODIFIED:20260216T150526Z
UID:6887-1774782000-1774785600@paisleysouth.church
SUMMARY:Sunday Morning Service
DESCRIPTION:Please see the Menu Tab for Worship Services / Upcomming Services\, for more detail or click Web Page button below. \n\n\n\nAssemble in the Main Hall – All are welcome.
URL:https://paisleysouth.church/event/sunday-morning-service-27/
LOCATION:Church\, 123 Rowan Street\, Paisley\, PA2 6RZ\, United Kingdom
CATEGORIES:Sunday goings on
ATTACH;FMTTYPE=image/jpeg:https://paisleysouth.church/wp-content/uploads/2024/10/PaisleySouthChurchOrgan-1.jpg
ORGANIZER;CN="David Hood":MAILTO:dhood@churchofscotland.org.uk
END:VEVENT
BEGIN:VEVENT
DTSTART;TZID=Europe/London:20260329T120000
DTEND;TZID=Europe/London:20260329T130000
DTSTAMP:20260423T000022
CREATED:20260216T150548Z
LAST-MODIFIED:20260216T150548Z
UID:6889-1774785600-1774789200@paisleysouth.church
SUMMARY:After Service Tea – Coffee
DESCRIPTION:Join us in the Medium hall for a Brew and a Biscuit
URL:https://paisleysouth.church/event/after-service-tea-coffee-27/
LOCATION:Paisley South Church Hall\, 123 Rowan Street\, Paisley\, PA2 6RZ\, United Kingdom
CATEGORIES:Sunday goings on
ATTACH;FMTTYPE=image/jpeg:https://paisleysouth.church/wp-content/uploads/2024/10/PaisleySouthtea-1.jpg
END:VEVENT
BEGIN:VEVENT
DTSTART;TZID=Europe/London:20260331T093000
DTEND;TZID=Europe/London:20260331T113000
DTSTAMP:20260423T000022
CREATED:20260216T151258Z
LAST-MODIFIED:20260216T151258Z
UID:6911-1774949400-1774956600@paisleysouth.church
SUMMARY:Rowan Street Toddler Group
DESCRIPTION:This adventure is for children up to 3 years old\, but only available during school term.
URL:https://paisleysouth.church/event/rowan-street-toddler-group-51/
LOCATION:Paisley South Church Hall\, 123 Rowan Street\, Paisley\, PA2 6RZ\, United Kingdom
CATEGORIES:Small People
ATTACH;FMTTYPE=image/jpeg:https://paisleysouth.church/wp-content/uploads/2024/10/PaisleySouthTodlers-1.jpg
END:VEVENT
BEGIN:VEVENT
DTSTART;TZID=Europe/London:20260331T100000
DTEND;TZID=Europe/London:20260331T120000
DTSTAMP:20260423T000022
CREATED:20260216T151724Z
LAST-MODIFIED:20260216T151724Z
UID:6921-1774951200-1774958400@paisleysouth.church
SUMMARY:Tearoom on a Tuesday
DESCRIPTION:Why dont you pop in for a cup of tea and a chat?\, we would love to see you.
URL:https://paisleysouth.church/event/tearoom-on-a-tuesday-24/
LOCATION:Paisley South Church Hall\, 123 Rowan Street\, Paisley\, PA2 6RZ\, United Kingdom
CATEGORIES:Tea and Chat
ATTACH;FMTTYPE=image/jpeg:https://paisleysouth.church/wp-content/uploads/2024/10/PaisleySouthTearoom-1.jpg
END:VEVENT
BEGIN:VEVENT
DTSTART;TZID=Europe/London:20260401T110000
DTEND;TZID=Europe/London:20260401T120000
DTSTAMP:20260423T000022
CREATED:20260322T080126Z
LAST-MODIFIED:20260322T080126Z
UID:7022-1775041200-1775044800@paisleysouth.church
SUMMARY:Wednesday Break
DESCRIPTION:Our meetings are a combination of worship\, music and fellowship. We provide tea/coffee and quality biscuits. \nFive ‘volunteers’ take it in turn to lead. We cover a wide range of topics using a variety of styles. \n\n\n\nAssemble in the Medium hall new members all are welcome.
URL:https://paisleysouth.church/event/wednesday-break-25/
LOCATION:Paisley South Church Hall\, 123 Rowan Street\, Paisley\, PA2 6RZ\, United Kingdom
CATEGORIES:Tea and Chat
ATTACH;FMTTYPE=image/jpeg:https://paisleysouth.church/wp-content/uploads/2024/11/PaisleySouthGen-2.jpg
END:VEVENT
BEGIN:VEVENT
DTSTART;TZID=Europe/London:20260402T093000
DTEND;TZID=Europe/London:20260402T113000
DTSTAMP:20260423T000022
CREATED:20260322T075629Z
LAST-MODIFIED:20260322T075629Z
UID:7014-1775122200-1775129400@paisleysouth.church
SUMMARY:Rowan Street Toddler Group
DESCRIPTION:This adventure is for children up to 3 years old\, but only available during school term.
URL:https://paisleysouth.church/event/rowan-street-toddler-group-58/
LOCATION:Paisley South Church Hall\, 123 Rowan Street\, Paisley\, PA2 6RZ\, United Kingdom
CATEGORIES:Small People
ATTACH;FMTTYPE=image/jpeg:https://paisleysouth.church/wp-content/uploads/2024/10/PaisleySouthTodlers-1.jpg
END:VEVENT
BEGIN:VEVENT
DTSTART;TZID=Europe/London:20260405T100000
DTEND;TZID=Europe/London:20260405T103000
DTSTAMP:20260423T000022
CREATED:20260322T074051Z
LAST-MODIFIED:20260322T074051Z
UID:6970-1775383200-1775385000@paisleysouth.church
SUMMARY:Pre Service Choir Rehearsal
DESCRIPTION:Getting in tune
URL:https://paisleysouth.church/event/pre-service-choir-rehearsal-28/
LOCATION:Paisley South Church Hall\, 123 Rowan Street\, Paisley\, PA2 6RZ\, United Kingdom
CATEGORIES:Sunday goings on
ATTACH;FMTTYPE=image/jpeg:https://paisleysouth.church/wp-content/uploads/2024/11/PaisleySouthChurchOrgan-3.jpg
END:VEVENT
BEGIN:VEVENT
DTSTART;TZID=Europe/London:20260405T110000
DTEND;TZID=Europe/London:20260405T120000
DTSTAMP:20260423T000022
CREATED:20260322T074339Z
LAST-MODIFIED:20260322T074339Z
UID:6978-1775386800-1775390400@paisleysouth.church
SUMMARY:Sunday Morning Service
DESCRIPTION:Please see the Menu Tab for Worship Services / Upcomming Services\, for more detail or click Web Page button below. \n\n\n\nAssemble in the Main Hall – All are welcome.
URL:https://paisleysouth.church/event/sunday-morning-service-28/
LOCATION:Church\, 123 Rowan Street\, Paisley\, PA2 6RZ\, United Kingdom
CATEGORIES:Sunday goings on
ATTACH;FMTTYPE=image/jpeg:https://paisleysouth.church/wp-content/uploads/2024/10/PaisleySouthChurchOrgan-1.jpg
ORGANIZER;CN="David Hood":MAILTO:dhood@churchofscotland.org.uk
END:VEVENT
BEGIN:VEVENT
DTSTART;TZID=Europe/London:20260405T120000
DTEND;TZID=Europe/London:20260405T130000
DTSTAMP:20260423T000022
CREATED:20260322T074531Z
LAST-MODIFIED:20260322T074531Z
UID:6986-1775390400-1775394000@paisleysouth.church
SUMMARY:After Service Tea – Coffee
DESCRIPTION:Join us in the Medium hall for a Brew and a Biscuit
URL:https://paisleysouth.church/event/after-service-tea-coffee-28/
LOCATION:Paisley South Church Hall\, 123 Rowan Street\, Paisley\, PA2 6RZ\, United Kingdom
CATEGORIES:Sunday goings on
ATTACH;FMTTYPE=image/jpeg:https://paisleysouth.church/wp-content/uploads/2024/10/PaisleySouthtea-1.jpg
END:VEVENT
BEGIN:VEVENT
DTSTART;TZID=Europe/London:20260406T143000
DTEND;TZID=Europe/London:20260406T160000
DTSTAMP:20260423T000022
CREATED:20260322T080651Z
LAST-MODIFIED:20260322T080651Z
UID:7036-1775485800-1775491200@paisleysouth.church
SUMMARY:Let's Meet
DESCRIPTION:The Let’s Meet group gets together again to enjoy further adventures around Paisley South. \n\n\n\nNew members are all welcome.
URL:https://paisleysouth.church/event/lets-meet-12/
LOCATION:Paisley South Church Hall\, 123 Rowan Street\, Paisley\, PA2 6RZ\, United Kingdom
CATEGORIES:Tea and Chat
ATTACH;FMTTYPE=image/jpeg:https://paisleysouth.church/wp-content/uploads/2024/11/PaisleySouthLetsmeet-2.jpg
END:VEVENT
BEGIN:VEVENT
DTSTART;TZID=Europe/London:20260407T100000
DTEND;TZID=Europe/London:20260407T120000
DTSTAMP:20260423T000022
CREATED:20260322T075041Z
LAST-MODIFIED:20260322T075041Z
UID:6994-1775556000-1775563200@paisleysouth.church
SUMMARY:Tearoom on a Tuesday
DESCRIPTION:Why dont you pop in for a cup of tea and a chat?\, we would love to see you.
URL:https://paisleysouth.church/event/tearoom-on-a-tuesday-25/
LOCATION:Paisley South Church Hall\, 123 Rowan Street\, Paisley\, PA2 6RZ\, United Kingdom
CATEGORIES:Tea and Chat
ATTACH;FMTTYPE=image/jpeg:https://paisleysouth.church/wp-content/uploads/2024/10/PaisleySouthTearoom-1.jpg
END:VEVENT
BEGIN:VEVENT
DTSTART;TZID=Europe/London:20260408T110000
DTEND;TZID=Europe/London:20260408T120000
DTSTAMP:20260423T000022
CREATED:20260322T080200Z
LAST-MODIFIED:20260322T080200Z
UID:7024-1775646000-1775649600@paisleysouth.church
SUMMARY:Wednesday Break
DESCRIPTION:Our meetings are a combination of worship\, music and fellowship. We provide tea/coffee and quality biscuits. \nFive ‘volunteers’ take it in turn to lead. We cover a wide range of topics using a variety of styles. \n\n\n\nAssemble in the Medium hall new members all are welcome.
URL:https://paisleysouth.church/event/wednesday-break-26/
LOCATION:Paisley South Church Hall\, 123 Rowan Street\, Paisley\, PA2 6RZ\, United Kingdom
CATEGORIES:Tea and Chat
ATTACH;FMTTYPE=image/jpeg:https://paisleysouth.church/wp-content/uploads/2024/11/PaisleySouthGen-2.jpg
END:VEVENT
BEGIN:VEVENT
DTSTART;TZID=Europe/London:20260412T100000
DTEND;TZID=Europe/London:20260412T103000
DTSTAMP:20260423T000022
CREATED:20260322T074124Z
LAST-MODIFIED:20260322T074124Z
UID:6972-1775988000-1775989800@paisleysouth.church
SUMMARY:Pre Service Choir Rehearsal
DESCRIPTION:Getting in tune
URL:https://paisleysouth.church/event/pre-service-choir-rehearsal-29/
LOCATION:Paisley South Church Hall\, 123 Rowan Street\, Paisley\, PA2 6RZ\, United Kingdom
CATEGORIES:Sunday goings on
ATTACH;FMTTYPE=image/jpeg:https://paisleysouth.church/wp-content/uploads/2024/11/PaisleySouthChurchOrgan-3.jpg
END:VEVENT
BEGIN:VEVENT
DTSTART;TZID=Europe/London:20260412T110000
DTEND;TZID=Europe/London:20260412T120000
DTSTAMP:20260423T000022
CREATED:20260322T074359Z
LAST-MODIFIED:20260322T074359Z
UID:6980-1775991600-1775995200@paisleysouth.church
SUMMARY:Sunday Morning Service
DESCRIPTION:Please see the Menu Tab for Worship Services / Upcomming Services\, for more detail or click Web Page button below. \n\n\n\nAssemble in the Main Hall – All are welcome.
URL:https://paisleysouth.church/event/sunday-morning-service-29/
LOCATION:Church\, 123 Rowan Street\, Paisley\, PA2 6RZ\, United Kingdom
CATEGORIES:Sunday goings on
ATTACH;FMTTYPE=image/jpeg:https://paisleysouth.church/wp-content/uploads/2024/10/PaisleySouthChurchOrgan-1.jpg
ORGANIZER;CN="David Hood":MAILTO:dhood@churchofscotland.org.uk
END:VEVENT
BEGIN:VEVENT
DTSTART;TZID=Europe/London:20260412T120000
DTEND;TZID=Europe/London:20260412T130000
DTSTAMP:20260423T000022
CREATED:20260322T074604Z
LAST-MODIFIED:20260322T074604Z
UID:6988-1775995200-1775998800@paisleysouth.church
SUMMARY:After Service Tea – Coffee
DESCRIPTION:Join us in the Medium hall for a Brew and a Biscuit
URL:https://paisleysouth.church/event/after-service-tea-coffee-29/
LOCATION:Paisley South Church Hall\, 123 Rowan Street\, Paisley\, PA2 6RZ\, United Kingdom
CATEGORIES:Sunday goings on
ATTACH;FMTTYPE=image/jpeg:https://paisleysouth.church/wp-content/uploads/2024/10/PaisleySouthtea-1.jpg
END:VEVENT
BEGIN:VEVENT
DTSTART;TZID=Europe/London:20260414T093000
DTEND;TZID=Europe/London:20260414T113000
DTSTAMP:20260423T000022
CREATED:20260322T075326Z
LAST-MODIFIED:20260322T075326Z
UID:7004-1776159000-1776166200@paisleysouth.church
SUMMARY:Rowan Street Toddler Group
DESCRIPTION:This adventure is for children up to 3 years old\, but only available during school term.
URL:https://paisleysouth.church/event/rowan-street-toddler-group-53/
LOCATION:Paisley South Church Hall\, 123 Rowan Street\, Paisley\, PA2 6RZ\, United Kingdom
CATEGORIES:Small People
ATTACH;FMTTYPE=image/jpeg:https://paisleysouth.church/wp-content/uploads/2024/10/PaisleySouthTodlers-1.jpg
END:VEVENT
BEGIN:VEVENT
DTSTART;TZID=Europe/London:20260414T100000
DTEND;TZID=Europe/London:20260414T120000
DTSTAMP:20260423T000022
CREATED:20260322T075118Z
LAST-MODIFIED:20260322T075118Z
UID:6996-1776160800-1776168000@paisleysouth.church
SUMMARY:Tearoom on a Tuesday
DESCRIPTION:Why dont you pop in for a cup of tea and a chat?\, we would love to see you.
URL:https://paisleysouth.church/event/tearoom-on-a-tuesday-26/
LOCATION:Paisley South Church Hall\, 123 Rowan Street\, Paisley\, PA2 6RZ\, United Kingdom
CATEGORIES:Tea and Chat
ATTACH;FMTTYPE=image/jpeg:https://paisleysouth.church/wp-content/uploads/2024/10/PaisleySouthTearoom-1.jpg
END:VEVENT
BEGIN:VEVENT
DTSTART;TZID=Europe/London:20260414T140000
DTEND;TZID=Europe/London:20260414T150000
DTSTAMP:20260423T000022
CREATED:20260322T080542Z
LAST-MODIFIED:20260410T175744Z
UID:7034-1776175200-1776178800@paisleysouth.church
SUMMARY:Banner Group
DESCRIPTION:Check out our web page at https://paisleysouth.church/banner-group/ for more info \n\n\n\nAssemble in the Medium hall new members all are welcome.
URL:https://paisleysouth.church/event/banner-group-2/
LOCATION:Paisley South Church Hall\, 123 Rowan Street\, Paisley\, PA2 6RZ\, United Kingdom
CATEGORIES:Tea and Chat
ATTACH;FMTTYPE=image/jpeg:https://paisleysouth.church/wp-content/uploads/2024/11/PaisleySouthBanner-12.jpg
END:VEVENT
BEGIN:VEVENT
DTSTART;TZID=Europe/London:20260415T110000
DTEND;TZID=Europe/London:20260415T120000
DTSTAMP:20260423T000022
CREATED:20260322T080234Z
LAST-MODIFIED:20260322T080234Z
UID:7026-1776250800-1776254400@paisleysouth.church
SUMMARY:Wednesday Break
DESCRIPTION:Our meetings are a combination of worship\, music and fellowship. We provide tea/coffee and quality biscuits. \nFive ‘volunteers’ take it in turn to lead. We cover a wide range of topics using a variety of styles. \n\n\n\nAssemble in the Medium hall new members all are welcome.
URL:https://paisleysouth.church/event/wednesday-break-27/
LOCATION:Paisley South Church Hall\, 123 Rowan Street\, Paisley\, PA2 6RZ\, United Kingdom
CATEGORIES:Tea and Chat
ATTACH;FMTTYPE=image/jpeg:https://paisleysouth.church/wp-content/uploads/2024/11/PaisleySouthGen-2.jpg
END:VEVENT
BEGIN:VEVENT
DTSTART;TZID=Europe/London:20260416T093000
DTEND;TZID=Europe/London:20260416T113000
DTSTAMP:20260423T000022
CREATED:20260322T075541Z
LAST-MODIFIED:20260322T075541Z
UID:7012-1776331800-1776339000@paisleysouth.church
SUMMARY:Rowan Street Toddler Group
DESCRIPTION:This adventure is for children up to 3 years old\, but only available during school term.
URL:https://paisleysouth.church/event/rowan-street-toddler-group-57/
LOCATION:Paisley South Church Hall\, 123 Rowan Street\, Paisley\, PA2 6RZ\, United Kingdom
CATEGORIES:Small People
ATTACH;FMTTYPE=image/jpeg:https://paisleysouth.church/wp-content/uploads/2024/10/PaisleySouthTodlers-1.jpg
END:VEVENT
BEGIN:VEVENT
DTSTART;TZID=Europe/London:20260419T100000
DTEND;TZID=Europe/London:20260419T103000
DTSTAMP:20260423T000022
CREATED:20260322T074154Z
LAST-MODIFIED:20260322T074154Z
UID:6974-1776592800-1776594600@paisleysouth.church
SUMMARY:Pre Service Choir Rehearsal
DESCRIPTION:Getting in tune
URL:https://paisleysouth.church/event/pre-service-choir-rehearsal-30/
LOCATION:Paisley South Church Hall\, 123 Rowan Street\, Paisley\, PA2 6RZ\, United Kingdom
CATEGORIES:Sunday goings on
ATTACH;FMTTYPE=image/jpeg:https://paisleysouth.church/wp-content/uploads/2024/11/PaisleySouthChurchOrgan-3.jpg
END:VEVENT
BEGIN:VEVENT
DTSTART;TZID=Europe/London:20260419T110000
DTEND;TZID=Europe/London:20260419T120000
DTSTAMP:20260423T000022
CREATED:20260322T074437Z
LAST-MODIFIED:20260322T074437Z
UID:6982-1776596400-1776600000@paisleysouth.church
SUMMARY:Sunday Morning Service
DESCRIPTION:Please see the Menu Tab for Worship Services / Upcomming Services\, for more detail or click Web Page button below. \n\n\n\nAssemble in the Main Hall – All are welcome.
URL:https://paisleysouth.church/event/sunday-morning-service-30/
LOCATION:Church\, 123 Rowan Street\, Paisley\, PA2 6RZ\, United Kingdom
CATEGORIES:Sunday goings on
ATTACH;FMTTYPE=image/jpeg:https://paisleysouth.church/wp-content/uploads/2024/10/PaisleySouthChurchOrgan-1.jpg
ORGANIZER;CN="David Hood":MAILTO:dhood@churchofscotland.org.uk
END:VEVENT
BEGIN:VEVENT
DTSTART;TZID=Europe/London:20260419T120000
DTEND;TZID=Europe/London:20260419T130000
DTSTAMP:20260423T000022
CREATED:20260322T074627Z
LAST-MODIFIED:20260322T074627Z
UID:6990-1776600000-1776603600@paisleysouth.church
SUMMARY:After Service Tea – Coffee
DESCRIPTION:Join us in the Medium hall for a Brew and a Biscuit
URL:https://paisleysouth.church/event/after-service-tea-coffee-30/
LOCATION:Paisley South Church Hall\, 123 Rowan Street\, Paisley\, PA2 6RZ\, United Kingdom
CATEGORIES:Sunday goings on
ATTACH;FMTTYPE=image/jpeg:https://paisleysouth.church/wp-content/uploads/2024/10/PaisleySouthtea-1.jpg
END:VEVENT
BEGIN:VEVENT
DTSTART;TZID=Europe/London:20260420T143000
DTEND;TZID=Europe/London:20260420T160000
DTSTAMP:20260423T000022
CREATED:20260322T080740Z
LAST-MODIFIED:20260322T080740Z
UID:7038-1776695400-1776700800@paisleysouth.church
SUMMARY:Let's Meet
DESCRIPTION:The Let’s Meet group gets together again to enjoy further adventures around Paisley South. \n\n\n\nNew members are all welcome.
URL:https://paisleysouth.church/event/lets-meet-13/
LOCATION:Paisley South Church Hall\, 123 Rowan Street\, Paisley\, PA2 6RZ\, United Kingdom
CATEGORIES:Tea and Chat
ATTACH;FMTTYPE=image/jpeg:https://paisleysouth.church/wp-content/uploads/2024/11/PaisleySouthLetsmeet-2.jpg
END:VEVENT
BEGIN:VEVENT
DTSTART;TZID=Europe/London:20260421T093000
DTEND;TZID=Europe/London:20260421T113000
DTSTAMP:20260423T000022
CREATED:20260322T075359Z
LAST-MODIFIED:20260322T075359Z
UID:7006-1776763800-1776771000@paisleysouth.church
SUMMARY:Rowan Street Toddler Group
DESCRIPTION:This adventure is for children up to 3 years old\, but only available during school term.
URL:https://paisleysouth.church/event/rowan-street-toddler-group-54/
LOCATION:Paisley South Church Hall\, 123 Rowan Street\, Paisley\, PA2 6RZ\, United Kingdom
CATEGORIES:Small People
ATTACH;FMTTYPE=image/jpeg:https://paisleysouth.church/wp-content/uploads/2024/10/PaisleySouthTodlers-1.jpg
END:VEVENT
BEGIN:VEVENT
DTSTART;TZID=Europe/London:20260421T100000
DTEND;TZID=Europe/London:20260421T120000
DTSTAMP:20260423T000022
CREATED:20260322T075146Z
LAST-MODIFIED:20260322T075146Z
UID:6998-1776765600-1776772800@paisleysouth.church
SUMMARY:Tearoom on a Tuesday
DESCRIPTION:Why dont you pop in for a cup of tea and a chat?\, we would love to see you.
URL:https://paisleysouth.church/event/tearoom-on-a-tuesday-27/
LOCATION:Paisley South Church Hall\, 123 Rowan Street\, Paisley\, PA2 6RZ\, United Kingdom
CATEGORIES:Tea and Chat
ATTACH;FMTTYPE=image/jpeg:https://paisleysouth.church/wp-content/uploads/2024/10/PaisleySouthTearoom-1.jpg
END:VEVENT
BEGIN:VEVENT
DTSTART;TZID=Europe/London:20260422T110000
DTEND;TZID=Europe/London:20260422T120000
DTSTAMP:20260423T000022
CREATED:20260322T080308Z
LAST-MODIFIED:20260322T080308Z
UID:7028-1776855600-1776859200@paisleysouth.church
SUMMARY:Wednesday Break
DESCRIPTION:Our meetings are a combination of worship\, music and fellowship. We provide tea/coffee and quality biscuits. \nFive ‘volunteers’ take it in turn to lead. We cover a wide range of topics using a variety of styles. \n\n\n\nAssemble in the Medium hall new members all are welcome.
URL:https://paisleysouth.church/event/wednesday-break-28/
LOCATION:Paisley South Church Hall\, 123 Rowan Street\, Paisley\, PA2 6RZ\, United Kingdom
CATEGORIES:Tea and Chat
ATTACH;FMTTYPE=image/jpeg:https://paisleysouth.church/wp-content/uploads/2024/11/PaisleySouthGen-2.jpg
END:VEVENT
BEGIN:VEVENT
DTSTART;TZID=Europe/London:20260423T093000
DTEND;TZID=Europe/London:20260423T113000
DTSTAMP:20260423T000022
CREATED:20260322T075710Z
LAST-MODIFIED:20260322T075710Z
UID:7016-1776936600-1776943800@paisleysouth.church
SUMMARY:Rowan Street Toddler Group
DESCRIPTION:This adventure is for children up to 3 years old\, but only available during school term.
URL:https://paisleysouth.church/event/rowan-street-toddler-group-59/
LOCATION:Paisley South Church Hall\, 123 Rowan Street\, Paisley\, PA2 6RZ\, United Kingdom
CATEGORIES:Small People
ATTACH;FMTTYPE=image/jpeg:https://paisleysouth.church/wp-content/uploads/2024/10/PaisleySouthTodlers-1.jpg
END:VEVENT
BEGIN:VEVENT
DTSTART;TZID=Europe/London:20260426T100000
DTEND;TZID=Europe/London:20260426T103000
DTSTAMP:20260423T000022
CREATED:20260322T074246Z
LAST-MODIFIED:20260322T074246Z
UID:6976-1777197600-1777199400@paisleysouth.church
SUMMARY:Pre Service Choir Rehearsal
DESCRIPTION:Getting in tune
URL:https://paisleysouth.church/event/pre-service-choir-rehearsal-31/
LOCATION:Paisley South Church Hall\, 123 Rowan Street\, Paisley\, PA2 6RZ\, United Kingdom
CATEGORIES:Sunday goings on
ATTACH;FMTTYPE=image/jpeg:https://paisleysouth.church/wp-content/uploads/2024/11/PaisleySouthChurchOrgan-3.jpg
END:VEVENT
BEGIN:VEVENT
DTSTART;TZID=Europe/London:20260426T110000
DTEND;TZID=Europe/London:20260426T120000
DTSTAMP:20260423T000022
CREATED:20260322T074457Z
LAST-MODIFIED:20260322T074457Z
UID:6984-1777201200-1777204800@paisleysouth.church
SUMMARY:Sunday Morning Service
DESCRIPTION:Please see the Menu Tab for Worship Services / Upcomming Services\, for more detail or click Web Page button below. \n\n\n\nAssemble in the Main Hall – All are welcome.
URL:https://paisleysouth.church/event/sunday-morning-service-31/
LOCATION:Church\, 123 Rowan Street\, Paisley\, PA2 6RZ\, United Kingdom
CATEGORIES:Sunday goings on
ATTACH;FMTTYPE=image/jpeg:https://paisleysouth.church/wp-content/uploads/2024/10/PaisleySouthChurchOrgan-1.jpg
ORGANIZER;CN="David Hood":MAILTO:dhood@churchofscotland.org.uk
END:VEVENT
END:VCALENDAR