BEGIN:VCALENDAR
VERSION:2.0
PRODID:-//Paisley South Church - ECPv6.15.20//NONSGML v1.0//EN
CALSCALE:GREGORIAN
METHOD:PUBLISH
X-WR-CALNAME:Paisley South Church
X-ORIGINAL-URL:https://paisleysouth.church
X-WR-CALDESC:Events for Paisley South Church
REFRESH-INTERVAL;VALUE=DURATION:PT1H
X-Robots-Tag:noindex
X-PUBLISHED-TTL:PT1H
BEGIN:VTIMEZONE
TZID:Europe/London
BEGIN:DAYLIGHT
TZOFFSETFROM:+0000
TZOFFSETTO:+0100
TZNAME:BST
DTSTART:20250330T010000
END:DAYLIGHT
BEGIN:STANDARD
TZOFFSETFROM:+0100
TZOFFSETTO:+0000
TZNAME:GMT
DTSTART:20251026T010000
END:STANDARD
BEGIN:DAYLIGHT
TZOFFSETFROM:+0000
TZOFFSETTO:+0100
TZNAME:BST
DTSTART:20260329T010000
END:DAYLIGHT
BEGIN:STANDARD
TZOFFSETFROM:+0100
TZOFFSETTO:+0000
TZNAME:GMT
DTSTART:20261025T010000
END:STANDARD
BEGIN:DAYLIGHT
TZOFFSETFROM:+0000
TZOFFSETTO:+0100
TZNAME:BST
DTSTART:20270328T010000
END:DAYLIGHT
BEGIN:STANDARD
TZOFFSETFROM:+0100
TZOFFSETTO:+0000
TZNAME:GMT
DTSTART:20271031T010000
END:STANDARD
END:VTIMEZONE
BEGIN:VEVENT
DTSTART;TZID=Europe/London:20260416T093000
DTEND;TZID=Europe/London:20260416T113000
DTSTAMP:20260422T235938
CREATED:20260322T075541Z
LAST-MODIFIED:20260322T075541Z
UID:7012-1776331800-1776339000@paisleysouth.church
SUMMARY:Rowan Street Toddler Group
DESCRIPTION:This adventure is for children up to 3 years old\, but only available during school term.
URL:https://paisleysouth.church/event/rowan-street-toddler-group-57/
LOCATION:Paisley South Church Hall\, 123 Rowan Street\, Paisley\, PA2 6RZ\, United Kingdom
CATEGORIES:Small People
ATTACH;FMTTYPE=image/jpeg:https://paisleysouth.church/wp-content/uploads/2024/10/PaisleySouthTodlers-1.jpg
END:VEVENT
BEGIN:VEVENT
DTSTART;TZID=Europe/London:20260419T100000
DTEND;TZID=Europe/London:20260419T103000
DTSTAMP:20260422T235938
CREATED:20260322T074154Z
LAST-MODIFIED:20260322T074154Z
UID:6974-1776592800-1776594600@paisleysouth.church
SUMMARY:Pre Service Choir Rehearsal
DESCRIPTION:Getting in tune
URL:https://paisleysouth.church/event/pre-service-choir-rehearsal-30/
LOCATION:Paisley South Church Hall\, 123 Rowan Street\, Paisley\, PA2 6RZ\, United Kingdom
CATEGORIES:Sunday goings on
ATTACH;FMTTYPE=image/jpeg:https://paisleysouth.church/wp-content/uploads/2024/11/PaisleySouthChurchOrgan-3.jpg
END:VEVENT
BEGIN:VEVENT
DTSTART;TZID=Europe/London:20260419T110000
DTEND;TZID=Europe/London:20260419T120000
DTSTAMP:20260422T235938
CREATED:20260322T074437Z
LAST-MODIFIED:20260322T074437Z
UID:6982-1776596400-1776600000@paisleysouth.church
SUMMARY:Sunday Morning Service
DESCRIPTION:Please see the Menu Tab for Worship Services / Upcomming Services\, for more detail or click Web Page button below. \n\n\n\nAssemble in the Main Hall – All are welcome.
URL:https://paisleysouth.church/event/sunday-morning-service-30/
LOCATION:Church\, 123 Rowan Street\, Paisley\, PA2 6RZ\, United Kingdom
CATEGORIES:Sunday goings on
ATTACH;FMTTYPE=image/jpeg:https://paisleysouth.church/wp-content/uploads/2024/10/PaisleySouthChurchOrgan-1.jpg
ORGANIZER;CN="David Hood":MAILTO:dhood@churchofscotland.org.uk
END:VEVENT
BEGIN:VEVENT
DTSTART;TZID=Europe/London:20260419T120000
DTEND;TZID=Europe/London:20260419T130000
DTSTAMP:20260422T235938
CREATED:20260322T074627Z
LAST-MODIFIED:20260322T074627Z
UID:6990-1776600000-1776603600@paisleysouth.church
SUMMARY:After Service Tea – Coffee
DESCRIPTION:Join us in the Medium hall for a Brew and a Biscuit
URL:https://paisleysouth.church/event/after-service-tea-coffee-30/
LOCATION:Paisley South Church Hall\, 123 Rowan Street\, Paisley\, PA2 6RZ\, United Kingdom
CATEGORIES:Sunday goings on
ATTACH;FMTTYPE=image/jpeg:https://paisleysouth.church/wp-content/uploads/2024/10/PaisleySouthtea-1.jpg
END:VEVENT
BEGIN:VEVENT
DTSTART;TZID=Europe/London:20260420T143000
DTEND;TZID=Europe/London:20260420T160000
DTSTAMP:20260422T235938
CREATED:20260322T080740Z
LAST-MODIFIED:20260322T080740Z
UID:7038-1776695400-1776700800@paisleysouth.church
SUMMARY:Let's Meet
DESCRIPTION:The Let’s Meet group gets together again to enjoy further adventures around Paisley South. \n\n\n\nNew members are all welcome.
URL:https://paisleysouth.church/event/lets-meet-13/
LOCATION:Paisley South Church Hall\, 123 Rowan Street\, Paisley\, PA2 6RZ\, United Kingdom
CATEGORIES:Tea and Chat
ATTACH;FMTTYPE=image/jpeg:https://paisleysouth.church/wp-content/uploads/2024/11/PaisleySouthLetsmeet-2.jpg
END:VEVENT
BEGIN:VEVENT
DTSTART;TZID=Europe/London:20260421T093000
DTEND;TZID=Europe/London:20260421T113000
DTSTAMP:20260422T235938
CREATED:20260322T075359Z
LAST-MODIFIED:20260322T075359Z
UID:7006-1776763800-1776771000@paisleysouth.church
SUMMARY:Rowan Street Toddler Group
DESCRIPTION:This adventure is for children up to 3 years old\, but only available during school term.
URL:https://paisleysouth.church/event/rowan-street-toddler-group-54/
LOCATION:Paisley South Church Hall\, 123 Rowan Street\, Paisley\, PA2 6RZ\, United Kingdom
CATEGORIES:Small People
ATTACH;FMTTYPE=image/jpeg:https://paisleysouth.church/wp-content/uploads/2024/10/PaisleySouthTodlers-1.jpg
END:VEVENT
BEGIN:VEVENT
DTSTART;TZID=Europe/London:20260421T100000
DTEND;TZID=Europe/London:20260421T120000
DTSTAMP:20260422T235938
CREATED:20260322T075146Z
LAST-MODIFIED:20260322T075146Z
UID:6998-1776765600-1776772800@paisleysouth.church
SUMMARY:Tearoom on a Tuesday
DESCRIPTION:Why dont you pop in for a cup of tea and a chat?\, we would love to see you.
URL:https://paisleysouth.church/event/tearoom-on-a-tuesday-27/
LOCATION:Paisley South Church Hall\, 123 Rowan Street\, Paisley\, PA2 6RZ\, United Kingdom
CATEGORIES:Tea and Chat
ATTACH;FMTTYPE=image/jpeg:https://paisleysouth.church/wp-content/uploads/2024/10/PaisleySouthTearoom-1.jpg
END:VEVENT
BEGIN:VEVENT
DTSTART;TZID=Europe/London:20260422T110000
DTEND;TZID=Europe/London:20260422T120000
DTSTAMP:20260422T235938
CREATED:20260322T080308Z
LAST-MODIFIED:20260322T080308Z
UID:7028-1776855600-1776859200@paisleysouth.church
SUMMARY:Wednesday Break
DESCRIPTION:Our meetings are a combination of worship\, music and fellowship. We provide tea/coffee and quality biscuits. \nFive ‘volunteers’ take it in turn to lead. We cover a wide range of topics using a variety of styles. \n\n\n\nAssemble in the Medium hall new members all are welcome.
URL:https://paisleysouth.church/event/wednesday-break-28/
LOCATION:Paisley South Church Hall\, 123 Rowan Street\, Paisley\, PA2 6RZ\, United Kingdom
CATEGORIES:Tea and Chat
ATTACH;FMTTYPE=image/jpeg:https://paisleysouth.church/wp-content/uploads/2024/11/PaisleySouthGen-2.jpg
END:VEVENT
BEGIN:VEVENT
DTSTART;TZID=Europe/London:20260423T093000
DTEND;TZID=Europe/London:20260423T113000
DTSTAMP:20260422T235938
CREATED:20260322T075710Z
LAST-MODIFIED:20260322T075710Z
UID:7016-1776936600-1776943800@paisleysouth.church
SUMMARY:Rowan Street Toddler Group
DESCRIPTION:This adventure is for children up to 3 years old\, but only available during school term.
URL:https://paisleysouth.church/event/rowan-street-toddler-group-59/
LOCATION:Paisley South Church Hall\, 123 Rowan Street\, Paisley\, PA2 6RZ\, United Kingdom
CATEGORIES:Small People
ATTACH;FMTTYPE=image/jpeg:https://paisleysouth.church/wp-content/uploads/2024/10/PaisleySouthTodlers-1.jpg
END:VEVENT
BEGIN:VEVENT
DTSTART;TZID=Europe/London:20260426T100000
DTEND;TZID=Europe/London:20260426T103000
DTSTAMP:20260422T235938
CREATED:20260322T074246Z
LAST-MODIFIED:20260322T074246Z
UID:6976-1777197600-1777199400@paisleysouth.church
SUMMARY:Pre Service Choir Rehearsal
DESCRIPTION:Getting in tune
URL:https://paisleysouth.church/event/pre-service-choir-rehearsal-31/
LOCATION:Paisley South Church Hall\, 123 Rowan Street\, Paisley\, PA2 6RZ\, United Kingdom
CATEGORIES:Sunday goings on
ATTACH;FMTTYPE=image/jpeg:https://paisleysouth.church/wp-content/uploads/2024/11/PaisleySouthChurchOrgan-3.jpg
END:VEVENT
BEGIN:VEVENT
DTSTART;TZID=Europe/London:20260426T110000
DTEND;TZID=Europe/London:20260426T120000
DTSTAMP:20260422T235938
CREATED:20260322T074457Z
LAST-MODIFIED:20260322T074457Z
UID:6984-1777201200-1777204800@paisleysouth.church
SUMMARY:Sunday Morning Service
DESCRIPTION:Please see the Menu Tab for Worship Services / Upcomming Services\, for more detail or click Web Page button below. \n\n\n\nAssemble in the Main Hall – All are welcome.
URL:https://paisleysouth.church/event/sunday-morning-service-31/
LOCATION:Church\, 123 Rowan Street\, Paisley\, PA2 6RZ\, United Kingdom
CATEGORIES:Sunday goings on
ATTACH;FMTTYPE=image/jpeg:https://paisleysouth.church/wp-content/uploads/2024/10/PaisleySouthChurchOrgan-1.jpg
ORGANIZER;CN="David Hood":MAILTO:dhood@churchofscotland.org.uk
END:VEVENT
BEGIN:VEVENT
DTSTART;TZID=Europe/London:20260426T120000
DTEND;TZID=Europe/London:20260426T130000
DTSTAMP:20260422T235938
CREATED:20260322T074653Z
LAST-MODIFIED:20260322T074653Z
UID:6992-1777204800-1777208400@paisleysouth.church
SUMMARY:After Service Tea – Coffee
DESCRIPTION:Join us in the Medium hall for a Brew and a Biscuit
URL:https://paisleysouth.church/event/after-service-tea-coffee-31/
LOCATION:Paisley South Church Hall\, 123 Rowan Street\, Paisley\, PA2 6RZ\, United Kingdom
CATEGORIES:Sunday goings on
ATTACH;FMTTYPE=image/jpeg:https://paisleysouth.church/wp-content/uploads/2024/10/PaisleySouthtea-1.jpg
END:VEVENT
BEGIN:VEVENT
DTSTART;TZID=Europe/London:20260428T093000
DTEND;TZID=Europe/London:20260428T113000
DTSTAMP:20260422T235938
CREATED:20260322T075421Z
LAST-MODIFIED:20260322T075421Z
UID:7008-1777368600-1777375800@paisleysouth.church
SUMMARY:Rowan Street Toddler Group
DESCRIPTION:This adventure is for children up to 3 years old\, but only available during school term.
URL:https://paisleysouth.church/event/rowan-street-toddler-group-55/
LOCATION:Paisley South Church Hall\, 123 Rowan Street\, Paisley\, PA2 6RZ\, United Kingdom
CATEGORIES:Small People
ATTACH;FMTTYPE=image/jpeg:https://paisleysouth.church/wp-content/uploads/2024/10/PaisleySouthTodlers-1.jpg
END:VEVENT
BEGIN:VEVENT
DTSTART;TZID=Europe/London:20260428T100000
DTEND;TZID=Europe/London:20260428T120000
DTSTAMP:20260422T235938
CREATED:20260322T075210Z
LAST-MODIFIED:20260322T075210Z
UID:7000-1777370400-1777377600@paisleysouth.church
SUMMARY:Tearoom on a Tuesday
DESCRIPTION:Why dont you pop in for a cup of tea and a chat?\, we would love to see you.
URL:https://paisleysouth.church/event/tearoom-on-a-tuesday-28/
LOCATION:Paisley South Church Hall\, 123 Rowan Street\, Paisley\, PA2 6RZ\, United Kingdom
CATEGORIES:Tea and Chat
ATTACH;FMTTYPE=image/jpeg:https://paisleysouth.church/wp-content/uploads/2024/10/PaisleySouthTearoom-1.jpg
END:VEVENT
BEGIN:VEVENT
DTSTART;TZID=Europe/London:20260429T110000
DTEND;TZID=Europe/London:20260429T120000
DTSTAMP:20260422T235938
CREATED:20260322T080349Z
LAST-MODIFIED:20260322T080349Z
UID:7030-1777460400-1777464000@paisleysouth.church
SUMMARY:Wednesday Break
DESCRIPTION:Our meetings are a combination of worship\, music and fellowship. We provide tea/coffee and quality biscuits. \nFive ‘volunteers’ take it in turn to lead. We cover a wide range of topics using a variety of styles. \n\n\n\nAssemble in the Medium hall new members all are welcome.
URL:https://paisleysouth.church/event/wednesday-break-29/
LOCATION:Paisley South Church Hall\, 123 Rowan Street\, Paisley\, PA2 6RZ\, United Kingdom
CATEGORIES:Tea and Chat
ATTACH;FMTTYPE=image/jpeg:https://paisleysouth.church/wp-content/uploads/2024/11/PaisleySouthGen-2.jpg
END:VEVENT
BEGIN:VEVENT
DTSTART;TZID=Europe/London:20260430T093000
DTEND;TZID=Europe/London:20260430T113000
DTSTAMP:20260422T235938
CREATED:20260322T080025Z
LAST-MODIFIED:20260322T080025Z
UID:7020-1777541400-1777548600@paisleysouth.church
SUMMARY:Rowan Street Toddler Group
DESCRIPTION:This adventure is for children up to 3 years old\, but only available during school term.
URL:https://paisleysouth.church/event/rowan-street-toddler-group-60/
LOCATION:Paisley South Church Hall\, 123 Rowan Street\, Paisley\, PA2 6RZ\, United Kingdom
CATEGORIES:Small People
ATTACH;FMTTYPE=image/jpeg:https://paisleysouth.church/wp-content/uploads/2024/10/PaisleySouthTodlers-1.jpg
END:VEVENT
BEGIN:VEVENT
DTSTART;TZID=Europe/London:20260503T100000
DTEND;TZID=Europe/London:20260503T103000
DTSTAMP:20260422T235938
CREATED:20260421T145056Z
LAST-MODIFIED:20260421T145056Z
UID:7101-1777802400-1777804200@paisleysouth.church
SUMMARY:Pre Service Choir Rehearsal
DESCRIPTION:Getting in tune
URL:https://paisleysouth.church/event/pre-service-choir-rehearsal/
LOCATION:Paisley South Church Hall\, 123 Rowan Street\, Paisley\, PA2 6RZ\, United Kingdom
CATEGORIES:Sunday goings on
ATTACH;FMTTYPE=image/jpeg:https://paisleysouth.church/wp-content/uploads/2024/11/PaisleySouthChurchOrgan-3.jpg
END:VEVENT
BEGIN:VEVENT
DTSTART;TZID=Europe/London:20260503T110000
DTEND;TZID=Europe/London:20260503T120000
DTSTAMP:20260422T235938
CREATED:20260421T145528Z
LAST-MODIFIED:20260421T145528Z
UID:7111-1777806000-1777809600@paisleysouth.church
SUMMARY:Sunday Morning Service
DESCRIPTION:Please see the Menu Tab for Worship Services / Upcomming Services\, for more detail or click Web Page button below. \n\n\n\nAssemble in the Main Hall – All are welcome.
URL:https://paisleysouth.church/event/sunday-morning-service/
LOCATION:Church\, 123 Rowan Street\, Paisley\, PA2 6RZ\, United Kingdom
CATEGORIES:Sunday goings on
ATTACH;FMTTYPE=image/jpeg:https://paisleysouth.church/wp-content/uploads/2024/10/PaisleySouthChurchOrgan-1.jpg
ORGANIZER;CN="David Hood":MAILTO:dhood@churchofscotland.org.uk
END:VEVENT
BEGIN:VEVENT
DTSTART;TZID=Europe/London:20260503T120000
DTEND;TZID=Europe/London:20260503T130000
DTSTAMP:20260422T235938
CREATED:20260421T145803Z
LAST-MODIFIED:20260421T145803Z
UID:7121-1777809600-1777813200@paisleysouth.church
SUMMARY:After Service Tea – Coffee
DESCRIPTION:Join us in the Medium hall for a Brew and a Biscuit
URL:https://paisleysouth.church/event/after-service-tea-coffee/
LOCATION:Paisley South Church Hall\, 123 Rowan Street\, Paisley\, PA2 6RZ\, United Kingdom
CATEGORIES:Sunday goings on
ATTACH;FMTTYPE=image/jpeg:https://paisleysouth.church/wp-content/uploads/2024/10/PaisleySouthtea-1.jpg
END:VEVENT
BEGIN:VEVENT
DTSTART;TZID=Europe/London:20260504T143000
DTEND;TZID=Europe/London:20260504T160000
DTSTAMP:20260422T235938
CREATED:20260421T150054Z
LAST-MODIFIED:20260421T150054Z
UID:7131-1777905000-1777910400@paisleysouth.church
SUMMARY:Let's Meet
DESCRIPTION:The Let’s Meet group gets together again to enjoy further adventures around Paisley South. \n\n\n\nNew members are all welcome.
URL:https://paisleysouth.church/event/lets-meet-2/
LOCATION:Paisley South Church Hall\, 123 Rowan Street\, Paisley\, PA2 6RZ\, United Kingdom
CATEGORIES:Tea and Chat
ATTACH;FMTTYPE=image/jpeg:https://paisleysouth.church/wp-content/uploads/2024/11/PaisleySouthLetsmeet-2.jpg
END:VEVENT
BEGIN:VEVENT
DTSTART;TZID=Europe/London:20260505T093000
DTEND;TZID=Europe/London:20260505T113000
DTSTAMP:20260422T235938
CREATED:20260421T150207Z
LAST-MODIFIED:20260421T150207Z
UID:7135-1777973400-1777980600@paisleysouth.church
SUMMARY:Rowan Street Toddler Group
DESCRIPTION:This adventure is for children up to 3 years old\, but only available during school term.
URL:https://paisleysouth.church/event/rowan-street-toddler-group/
LOCATION:Paisley South Church Hall\, 123 Rowan Street\, Paisley\, PA2 6RZ\, United Kingdom
CATEGORIES:Small People
ATTACH;FMTTYPE=image/jpeg:https://paisleysouth.church/wp-content/uploads/2024/10/PaisleySouthTodlers-1.jpg
END:VEVENT
BEGIN:VEVENT
DTSTART;TZID=Europe/London:20260505T100000
DTEND;TZID=Europe/London:20260505T120000
DTSTAMP:20260422T235938
CREATED:20260421T150430Z
LAST-MODIFIED:20260421T150430Z
UID:7143-1777975200-1777982400@paisleysouth.church
SUMMARY:Tearoom on a Tuesday
DESCRIPTION:Why dont you pop in for a cup of tea and a chat?\, we would love to see you.
URL:https://paisleysouth.church/event/tearoom-on-a-tuesday/
LOCATION:Paisley South Church Hall\, 123 Rowan Street\, Paisley\, PA2 6RZ\, United Kingdom
CATEGORIES:Tea and Chat
ATTACH;FMTTYPE=image/jpeg:https://paisleysouth.church/wp-content/uploads/2024/10/PaisleySouthTearoom-1.jpg
END:VEVENT
BEGIN:VEVENT
DTSTART;TZID=Europe/London:20260506T110000
DTEND;TZID=Europe/London:20260506T120000
DTSTAMP:20260422T235938
CREATED:20260421T150635Z
LAST-MODIFIED:20260421T150635Z
UID:7151-1778065200-1778068800@paisleysouth.church
SUMMARY:Wednesday Break
DESCRIPTION:Our meetings are a combination of worship\, music and fellowship. We provide tea/coffee and quality biscuits. \nFive ‘volunteers’ take it in turn to lead. We cover a wide range of topics using a variety of styles. \n\n\n\nAssemble in the Medium hall new members all are welcome.
URL:https://paisleysouth.church/event/wednesday-break/
LOCATION:Paisley South Church Hall\, 123 Rowan Street\, Paisley\, PA2 6RZ\, United Kingdom
CATEGORIES:Tea and Chat
ATTACH;FMTTYPE=image/jpeg:https://paisleysouth.church/wp-content/uploads/2024/11/PaisleySouthGen-2.jpg
END:VEVENT
BEGIN:VEVENT
DTSTART;TZID=Europe/London:20260507T093000
DTEND;TZID=Europe/London:20260507T113000
DTSTAMP:20260422T235938
CREATED:20260421T150934Z
LAST-MODIFIED:20260421T150934Z
UID:7159-1778146200-1778153400@paisleysouth.church
SUMMARY:Rowan Street Toddler Group
DESCRIPTION:This adventure is for children up to 3 years old\, but only available during school term.
URL:https://paisleysouth.church/event/rowan-street-toddler-group-5/
LOCATION:Paisley South Church Hall\, 123 Rowan Street\, Paisley\, PA2 6RZ\, United Kingdom
CATEGORIES:Small People
ATTACH;FMTTYPE=image/jpeg:https://paisleysouth.church/wp-content/uploads/2024/10/PaisleySouthTodlers-1.jpg
END:VEVENT
BEGIN:VEVENT
DTSTART;TZID=Europe/London:20260510T100000
DTEND;TZID=Europe/London:20260510T103000
DTSTAMP:20260422T235938
CREATED:20260421T145319Z
LAST-MODIFIED:20260421T145319Z
UID:7103-1778407200-1778409000@paisleysouth.church
SUMMARY:Pre Service Choir Rehearsal
DESCRIPTION:Getting in tune
URL:https://paisleysouth.church/event/pre-service-choir-rehearsal-2/
LOCATION:Paisley South Church Hall\, 123 Rowan Street\, Paisley\, PA2 6RZ\, United Kingdom
CATEGORIES:Sunday goings on
ATTACH;FMTTYPE=image/jpeg:https://paisleysouth.church/wp-content/uploads/2024/11/PaisleySouthChurchOrgan-3.jpg
END:VEVENT
BEGIN:VEVENT
DTSTART;TZID=Europe/London:20260510T110000
DTEND;TZID=Europe/London:20260510T120000
DTSTAMP:20260422T235938
CREATED:20260421T145603Z
LAST-MODIFIED:20260421T145603Z
UID:7113-1778410800-1778414400@paisleysouth.church
SUMMARY:Sunday Morning Service
DESCRIPTION:Please see the Menu Tab for Worship Services / Upcomming Services\, for more detail or click Web Page button below. \n\n\n\nAssemble in the Main Hall – All are welcome.
URL:https://paisleysouth.church/event/sunday-morning-service-2/
LOCATION:Church\, 123 Rowan Street\, Paisley\, PA2 6RZ\, United Kingdom
CATEGORIES:Sunday goings on
ATTACH;FMTTYPE=image/jpeg:https://paisleysouth.church/wp-content/uploads/2024/10/PaisleySouthChurchOrgan-1.jpg
ORGANIZER;CN="David Hood":MAILTO:dhood@churchofscotland.org.uk
END:VEVENT
BEGIN:VEVENT
DTSTART;TZID=Europe/London:20260510T120000
DTEND;TZID=Europe/London:20260510T130000
DTSTAMP:20260422T235938
CREATED:20260421T145838Z
LAST-MODIFIED:20260421T145838Z
UID:7123-1778414400-1778418000@paisleysouth.church
SUMMARY:After Service Tea – Coffee
DESCRIPTION:Join us in the Medium hall for a Brew and a Biscuit
URL:https://paisleysouth.church/event/after-service-tea-coffee-2/
LOCATION:Paisley South Church Hall\, 123 Rowan Street\, Paisley\, PA2 6RZ\, United Kingdom
CATEGORIES:Sunday goings on
ATTACH;FMTTYPE=image/jpeg:https://paisleysouth.church/wp-content/uploads/2024/10/PaisleySouthtea-1.jpg
END:VEVENT
BEGIN:VEVENT
DTSTART;TZID=Europe/London:20260512T093000
DTEND;TZID=Europe/London:20260512T113000
DTSTAMP:20260422T235938
CREATED:20260421T150243Z
LAST-MODIFIED:20260421T150243Z
UID:7137-1778578200-1778585400@paisleysouth.church
SUMMARY:Rowan Street Toddler Group
DESCRIPTION:This adventure is for children up to 3 years old\, but only available during school term.
URL:https://paisleysouth.church/event/rowan-street-toddler-group-2/
LOCATION:Paisley South Church Hall\, 123 Rowan Street\, Paisley\, PA2 6RZ\, United Kingdom
CATEGORIES:Small People
ATTACH;FMTTYPE=image/jpeg:https://paisleysouth.church/wp-content/uploads/2024/10/PaisleySouthTodlers-1.jpg
END:VEVENT
BEGIN:VEVENT
DTSTART;TZID=Europe/London:20260512T100000
DTEND;TZID=Europe/London:20260512T120000
DTSTAMP:20260422T235938
CREATED:20260421T150455Z
LAST-MODIFIED:20260421T150455Z
UID:7145-1778580000-1778587200@paisleysouth.church
SUMMARY:Tearoom on a Tuesday
DESCRIPTION:Why dont you pop in for a cup of tea and a chat?\, we would love to see you.
URL:https://paisleysouth.church/event/tearoom-on-a-tuesday-2/
LOCATION:Paisley South Church Hall\, 123 Rowan Street\, Paisley\, PA2 6RZ\, United Kingdom
CATEGORIES:Tea and Chat
ATTACH;FMTTYPE=image/jpeg:https://paisleysouth.church/wp-content/uploads/2024/10/PaisleySouthTearoom-1.jpg
END:VEVENT
BEGIN:VEVENT
DTSTART;TZID=Europe/London:20260513T110000
DTEND;TZID=Europe/London:20260513T120000
DTSTAMP:20260422T235938
CREATED:20260421T150733Z
LAST-MODIFIED:20260421T150733Z
UID:7153-1778670000-1778673600@paisleysouth.church
SUMMARY:Wednesday Break
DESCRIPTION:Our meetings are a combination of worship\, music and fellowship. We provide tea/coffee and quality biscuits. \nFive ‘volunteers’ take it in turn to lead. We cover a wide range of topics using a variety of styles. \n\n\n\nAssemble in the Medium hall new members all are welcome.
URL:https://paisleysouth.church/event/wednesday-break-2/
LOCATION:Paisley South Church Hall\, 123 Rowan Street\, Paisley\, PA2 6RZ\, United Kingdom
CATEGORIES:Tea and Chat
ATTACH;FMTTYPE=image/jpeg:https://paisleysouth.church/wp-content/uploads/2024/11/PaisleySouthGen-2.jpg
END:VEVENT
END:VCALENDAR