BEGIN:VCALENDAR
VERSION:2.0
PRODID:-//Paisley South Church - ECPv6.15.20//NONSGML v1.0//EN
CALSCALE:GREGORIAN
METHOD:PUBLISH
X-WR-CALNAME:Paisley South Church
X-ORIGINAL-URL:https://paisleysouth.church
X-WR-CALDESC:Events for Paisley South Church
REFRESH-INTERVAL;VALUE=DURATION:PT1H
X-Robots-Tag:noindex
X-PUBLISHED-TTL:PT1H
BEGIN:VTIMEZONE
TZID:Europe/London
BEGIN:DAYLIGHT
TZOFFSETFROM:+0000
TZOFFSETTO:+0100
TZNAME:BST
DTSTART:20250330T010000
END:DAYLIGHT
BEGIN:STANDARD
TZOFFSETFROM:+0100
TZOFFSETTO:+0000
TZNAME:GMT
DTSTART:20251026T010000
END:STANDARD
BEGIN:DAYLIGHT
TZOFFSETFROM:+0000
TZOFFSETTO:+0100
TZNAME:BST
DTSTART:20260329T010000
END:DAYLIGHT
BEGIN:STANDARD
TZOFFSETFROM:+0100
TZOFFSETTO:+0000
TZNAME:GMT
DTSTART:20261025T010000
END:STANDARD
BEGIN:DAYLIGHT
TZOFFSETFROM:+0000
TZOFFSETTO:+0100
TZNAME:BST
DTSTART:20270328T010000
END:DAYLIGHT
BEGIN:STANDARD
TZOFFSETFROM:+0100
TZOFFSETTO:+0000
TZNAME:GMT
DTSTART:20271031T010000
END:STANDARD
END:VTIMEZONE
BEGIN:VEVENT
DTSTART;TZID=Europe/London:20260224T100000
DTEND;TZID=Europe/London:20260224T120000
DTSTAMP:20260422T235821
CREATED:20260121T174506Z
LAST-MODIFIED:20260121T174506Z
UID:6819-1771927200-1771934400@paisleysouth.church
SUMMARY:Tearoom on a Tuesday
DESCRIPTION:Why dont you pop in for a cup of tea and a chat?\, we would love to see you.
URL:https://paisleysouth.church/event/tearoom-on-a-tuesday-20/
LOCATION:Paisley South Church Hall\, 123 Rowan Street\, Paisley\, PA2 6RZ\, United Kingdom
CATEGORIES:Tea and Chat
ATTACH;FMTTYPE=image/jpeg:https://paisleysouth.church/wp-content/uploads/2024/10/PaisleySouthTearoom-1.jpg
END:VEVENT
BEGIN:VEVENT
DTSTART;TZID=Europe/London:20260225T110000
DTEND;TZID=Europe/London:20260225T120000
DTSTAMP:20260422T235821
CREATED:20260121T174749Z
LAST-MODIFIED:20260121T174749Z
UID:6827-1772017200-1772020800@paisleysouth.church
SUMMARY:Wednesday Break
DESCRIPTION:Our meetings are a combination of worship\, music and fellowship. We provide tea/coffee and quality biscuits. \nFive ‘volunteers’ take it in turn to lead. We cover a wide range of topics using a variety of styles. \n\n\n\nAssemble in the Medium hall new members all are welcome.
URL:https://paisleysouth.church/event/wednesday-break-20/
LOCATION:Paisley South Church Hall\, 123 Rowan Street\, Paisley\, PA2 6RZ\, United Kingdom
CATEGORIES:Tea and Chat
ATTACH;FMTTYPE=image/jpeg:https://paisleysouth.church/wp-content/uploads/2024/11/PaisleySouthGen-2.jpg
END:VEVENT
BEGIN:VEVENT
DTSTART;TZID=Europe/London:20260226T093000
DTEND;TZID=Europe/London:20260226T113000
DTSTAMP:20260422T235821
CREATED:20260121T174046Z
LAST-MODIFIED:20260121T174046Z
UID:6805-1772098200-1772105400@paisleysouth.church
SUMMARY:Rowan Street Toddler Group
DESCRIPTION:This adventure is for children up to 3 years old\, but only available during school term.
URL:https://paisleysouth.church/event/rowan-street-toddler-group-42/
LOCATION:Paisley South Church Hall\, 123 Rowan Street\, Paisley\, PA2 6RZ\, United Kingdom
CATEGORIES:Small People
ATTACH;FMTTYPE=image/jpeg:https://paisleysouth.church/wp-content/uploads/2024/10/PaisleySouthTodlers-1.jpg
END:VEVENT
BEGIN:VEVENT
DTSTART;TZID=Europe/London:20260227T120000
DTEND;TZID=Europe/London:20260227T130000
DTSTAMP:20260422T235821
CREATED:20260201T192944Z
LAST-MODIFIED:20260201T192944Z
UID:6836-1772193600-1772197200@paisleysouth.church
SUMMARY:Soup and Sandwitch Lunch
DESCRIPTION:Paisley South Church is inviting everyone to Soup and Sandwich. \n\n\n\nAll are Welcome.
URL:https://paisleysouth.church/event/soup-and-sandwitch-lunch-3/
LOCATION:Paisley South Church Hall\, 123 Rowan Street\, Paisley\, PA2 6RZ\, United Kingdom
CATEGORIES:Tea and Chat
ATTACH;FMTTYPE=image/jpeg:https://paisleysouth.church/wp-content/uploads/2024/10/PaisleySouthSoup-1.jpg
END:VEVENT
BEGIN:VEVENT
DTSTART;TZID=Europe/London:20260301T100000
DTEND;TZID=Europe/London:20260301T103000
DTSTAMP:20260422T235821
CREATED:20260216T145734Z
LAST-MODIFIED:20260216T145734Z
UID:6861-1772359200-1772361000@paisleysouth.church
SUMMARY:Pre Service Choir Rehearsal
DESCRIPTION:Getting in tune
URL:https://paisleysouth.church/event/pre-service-choir-rehearsal-22/
LOCATION:Paisley South Church Hall\, 123 Rowan Street\, Paisley\, PA2 6RZ\, United Kingdom
CATEGORIES:Sunday goings on
ATTACH;FMTTYPE=image/jpeg:https://paisleysouth.church/wp-content/uploads/2024/11/PaisleySouthChurchOrgan-3.jpg
END:VEVENT
BEGIN:VEVENT
DTSTART;TZID=Europe/London:20260301T110000
DTEND;TZID=Europe/London:20260301T120000
DTSTAMP:20260422T235821
CREATED:20260216T145815Z
LAST-MODIFIED:20260216T145815Z
UID:6863-1772362800-1772366400@paisleysouth.church
SUMMARY:Sunday Morning Service
DESCRIPTION:Please see the Menu Tab for Worship Services / Upcomming Services\, for more detail or click Web Page button below. \n\n\n\nAssemble in the Main Hall – All are welcome.
URL:https://paisleysouth.church/event/sunday-morning-service-22/
LOCATION:Church\, 123 Rowan Street\, Paisley\, PA2 6RZ\, United Kingdom
CATEGORIES:Sunday goings on
ATTACH;FMTTYPE=image/jpeg:https://paisleysouth.church/wp-content/uploads/2024/10/PaisleySouthChurchOrgan-1.jpg
ORGANIZER;CN="David Hood":MAILTO:dhood@churchofscotland.org.uk
END:VEVENT
BEGIN:VEVENT
DTSTART;TZID=Europe/London:20260301T120000
DTEND;TZID=Europe/London:20260301T130000
DTSTAMP:20260422T235821
CREATED:20260216T145913Z
LAST-MODIFIED:20260216T145913Z
UID:6865-1772366400-1772370000@paisleysouth.church
SUMMARY:After Service Tea – Coffee
DESCRIPTION:Join us in the Medium hall for a Brew and a Biscuit
URL:https://paisleysouth.church/event/after-service-tea-coffee-22/
LOCATION:Paisley South Church Hall\, 123 Rowan Street\, Paisley\, PA2 6RZ\, United Kingdom
CATEGORIES:Sunday goings on
ATTACH;FMTTYPE=image/jpeg:https://paisleysouth.church/wp-content/uploads/2024/10/PaisleySouthtea-1.jpg
END:VEVENT
BEGIN:VEVENT
DTSTART;TZID=Europe/London:20260302T143000
DTEND;TZID=Europe/London:20260302T160000
DTSTAMP:20260422T235821
CREATED:20260216T150654Z
LAST-MODIFIED:20260216T150654Z
UID:6891-1772461800-1772467200@paisleysouth.church
SUMMARY:Let's Meet
DESCRIPTION:The Let’s Meet group gets together again to enjoy further adventures around Paisley South. \n\n\n\nNew members are all welcome.
URL:https://paisleysouth.church/event/lets-meet-10/
LOCATION:Paisley South Church Hall\, 123 Rowan Street\, Paisley\, PA2 6RZ\, United Kingdom
CATEGORIES:Tea and Chat
ATTACH;FMTTYPE=image/jpeg:https://paisleysouth.church/wp-content/uploads/2024/11/PaisleySouthLetsmeet-2.jpg
END:VEVENT
BEGIN:VEVENT
DTSTART;TZID=Europe/London:20260303T093000
DTEND;TZID=Europe/London:20260303T113000
DTSTAMP:20260422T235821
CREATED:20260216T150833Z
LAST-MODIFIED:20260216T150833Z
UID:6895-1772530200-1772537400@paisleysouth.church
SUMMARY:Rowan Street Toddler Group
DESCRIPTION:This adventure is for children up to 3 years old\, but only available during school term.
URL:https://paisleysouth.church/event/rowan-street-toddler-group-43/
LOCATION:Paisley South Church Hall\, 123 Rowan Street\, Paisley\, PA2 6RZ\, United Kingdom
CATEGORIES:Small People
ATTACH;FMTTYPE=image/jpeg:https://paisleysouth.church/wp-content/uploads/2024/10/PaisleySouthTodlers-1.jpg
END:VEVENT
BEGIN:VEVENT
DTSTART;TZID=Europe/London:20260303T100000
DTEND;TZID=Europe/London:20260303T120000
DTSTAMP:20260422T235821
CREATED:20260216T151410Z
LAST-MODIFIED:20260216T151410Z
UID:6913-1772532000-1772539200@paisleysouth.church
SUMMARY:Tearoom on a Tuesday
DESCRIPTION:Why dont you pop in for a cup of tea and a chat?\, we would love to see you.
URL:https://paisleysouth.church/event/tearoom-on-a-tuesday-18/
LOCATION:Paisley South Church Hall\, 123 Rowan Street\, Paisley\, PA2 6RZ\, United Kingdom
CATEGORIES:Tea and Chat
ATTACH;FMTTYPE=image/jpeg:https://paisleysouth.church/wp-content/uploads/2024/10/PaisleySouthTearoom-1.jpg
END:VEVENT
BEGIN:VEVENT
DTSTART;TZID=Europe/London:20260304T110000
DTEND;TZID=Europe/London:20260304T120000
DTSTAMP:20260422T235821
CREATED:20260216T151836Z
LAST-MODIFIED:20260216T151836Z
UID:6923-1772622000-1772625600@paisleysouth.church
SUMMARY:Wednesday Break
DESCRIPTION:Our meetings are a combination of worship\, music and fellowship. We provide tea/coffee and quality biscuits. \nFive ‘volunteers’ take it in turn to lead. We cover a wide range of topics using a variety of styles. \n\n\n\nAssemble in the Medium hall new members all are welcome.
URL:https://paisleysouth.church/event/wednesday-break-21/
LOCATION:Paisley South Church Hall\, 123 Rowan Street\, Paisley\, PA2 6RZ\, United Kingdom
CATEGORIES:Tea and Chat
ATTACH;FMTTYPE=image/jpeg:https://paisleysouth.church/wp-content/uploads/2024/11/PaisleySouthGen-2.jpg
END:VEVENT
BEGIN:VEVENT
DTSTART;TZID=Europe/London:20260305T093000
DTEND;TZID=Europe/London:20260305T113000
DTSTAMP:20260422T235821
CREATED:20260216T150907Z
LAST-MODIFIED:20260216T150907Z
UID:6897-1772703000-1772710200@paisleysouth.church
SUMMARY:Rowan Street Toddler Group
DESCRIPTION:This adventure is for children up to 3 years old\, but only available during school term.
URL:https://paisleysouth.church/event/rowan-street-toddler-group-44/
LOCATION:Paisley South Church Hall\, 123 Rowan Street\, Paisley\, PA2 6RZ\, United Kingdom
CATEGORIES:Small People
ATTACH;FMTTYPE=image/jpeg:https://paisleysouth.church/wp-content/uploads/2024/10/PaisleySouthTodlers-1.jpg
END:VEVENT
BEGIN:VEVENT
DTSTART;TZID=Europe/London:20260308T100000
DTEND;TZID=Europe/London:20260308T103000
DTSTAMP:20260422T235821
CREATED:20260216T145938Z
LAST-MODIFIED:20260216T145938Z
UID:6867-1772964000-1772965800@paisleysouth.church
SUMMARY:Pre Service Choir Rehearsal
DESCRIPTION:Getting in tune
URL:https://paisleysouth.church/event/pre-service-choir-rehearsal-24/
LOCATION:Paisley South Church Hall\, 123 Rowan Street\, Paisley\, PA2 6RZ\, United Kingdom
CATEGORIES:Sunday goings on
ATTACH;FMTTYPE=image/jpeg:https://paisleysouth.church/wp-content/uploads/2024/11/PaisleySouthChurchOrgan-3.jpg
END:VEVENT
BEGIN:VEVENT
DTSTART;TZID=Europe/London:20260308T110000
DTEND;TZID=Europe/London:20260308T120000
DTSTAMP:20260422T235821
CREATED:20260216T150007Z
LAST-MODIFIED:20260216T150007Z
UID:6869-1772967600-1772971200@paisleysouth.church
SUMMARY:Sunday Morning Service
DESCRIPTION:Please see the Menu Tab for Worship Services / Upcomming Services\, for more detail or click Web Page button below. \n\n\n\nAssemble in the Main Hall – All are welcome.
URL:https://paisleysouth.church/event/sunday-morning-service-24/
LOCATION:Church\, 123 Rowan Street\, Paisley\, PA2 6RZ\, United Kingdom
CATEGORIES:Sunday goings on
ATTACH;FMTTYPE=image/jpeg:https://paisleysouth.church/wp-content/uploads/2024/10/PaisleySouthChurchOrgan-1.jpg
ORGANIZER;CN="David Hood":MAILTO:dhood@churchofscotland.org.uk
END:VEVENT
BEGIN:VEVENT
DTSTART;TZID=Europe/London:20260308T120000
DTEND;TZID=Europe/London:20260308T130000
DTSTAMP:20260422T235821
CREATED:20260216T150109Z
LAST-MODIFIED:20260216T150109Z
UID:6871-1772971200-1772974800@paisleysouth.church
SUMMARY:After Service Tea – Coffee
DESCRIPTION:Join us in the Medium hall for a Brew and a Biscuit
URL:https://paisleysouth.church/event/after-service-tea-coffee-24/
LOCATION:Paisley South Church Hall\, 123 Rowan Street\, Paisley\, PA2 6RZ\, United Kingdom
CATEGORIES:Sunday goings on
ATTACH;FMTTYPE=image/jpeg:https://paisleysouth.church/wp-content/uploads/2024/10/PaisleySouthtea-1.jpg
END:VEVENT
BEGIN:VEVENT
DTSTART;TZID=Europe/London:20260310T093000
DTEND;TZID=Europe/London:20260310T113000
DTSTAMP:20260422T235821
CREATED:20260216T150955Z
LAST-MODIFIED:20260216T150955Z
UID:6899-1773135000-1773142200@paisleysouth.church
SUMMARY:Rowan Street Toddler Group
DESCRIPTION:This adventure is for children up to 3 years old\, but only available during school term.
URL:https://paisleysouth.church/event/rowan-street-toddler-group-45/
LOCATION:Paisley South Church Hall\, 123 Rowan Street\, Paisley\, PA2 6RZ\, United Kingdom
CATEGORIES:Small People
ATTACH;FMTTYPE=image/jpeg:https://paisleysouth.church/wp-content/uploads/2024/10/PaisleySouthTodlers-1.jpg
END:VEVENT
BEGIN:VEVENT
DTSTART;TZID=Europe/London:20260310T100000
DTEND;TZID=Europe/London:20260310T120000
DTSTAMP:20260422T235821
CREATED:20260216T151443Z
LAST-MODIFIED:20260216T151443Z
UID:6915-1773136800-1773144000@paisleysouth.church
SUMMARY:Tearoom on a Tuesday
DESCRIPTION:Why dont you pop in for a cup of tea and a chat?\, we would love to see you.
URL:https://paisleysouth.church/event/tearoom-on-a-tuesday-21/
LOCATION:Paisley South Church Hall\, 123 Rowan Street\, Paisley\, PA2 6RZ\, United Kingdom
CATEGORIES:Tea and Chat
ATTACH;FMTTYPE=image/jpeg:https://paisleysouth.church/wp-content/uploads/2024/10/PaisleySouthTearoom-1.jpg
END:VEVENT
BEGIN:VEVENT
DTSTART;TZID=Europe/London:20260311T110000
DTEND;TZID=Europe/London:20260311T120000
DTSTAMP:20260422T235821
CREATED:20260216T151922Z
LAST-MODIFIED:20260216T151922Z
UID:6924-1773226800-1773230400@paisleysouth.church
SUMMARY:Wednesday Break
DESCRIPTION:Our meetings are a combination of worship\, music and fellowship. We provide tea/coffee and quality biscuits. \nFive ‘volunteers’ take it in turn to lead. We cover a wide range of topics using a variety of styles. \n\n\n\nAssemble in the Medium hall new members all are welcome.
URL:https://paisleysouth.church/event/wednesday-break-22/
LOCATION:Paisley South Church Hall\, 123 Rowan Street\, Paisley\, PA2 6RZ\, United Kingdom
CATEGORIES:Tea and Chat
ATTACH;FMTTYPE=image/jpeg:https://paisleysouth.church/wp-content/uploads/2024/11/PaisleySouthGen-2.jpg
END:VEVENT
BEGIN:VEVENT
DTSTART;TZID=Europe/London:20260312T093000
DTEND;TZID=Europe/London:20260312T113000
DTSTAMP:20260422T235821
CREATED:20260216T151037Z
LAST-MODIFIED:20260216T151037Z
UID:6901-1773307800-1773315000@paisleysouth.church
SUMMARY:Rowan Street Toddler Group
DESCRIPTION:This adventure is for children up to 3 years old\, but only available during school term.
URL:https://paisleysouth.church/event/rowan-street-toddler-group-46/
LOCATION:Paisley South Church Hall\, 123 Rowan Street\, Paisley\, PA2 6RZ\, United Kingdom
CATEGORIES:Small People
ATTACH;FMTTYPE=image/jpeg:https://paisleysouth.church/wp-content/uploads/2024/10/PaisleySouthTodlers-1.jpg
END:VEVENT
BEGIN:VEVENT
DTSTART;TZID=Europe/London:20260314T140000
DTEND;TZID=Europe/London:20260314T153000
DTSTAMP:20260422T235821
CREATED:20260216T152958Z
LAST-MODIFIED:20260216T152958Z
UID:6931-1773496800-1773502200@paisleysouth.church
SUMMARY:Family Beetle Drive
DESCRIPTION:Why dont you pop in for a cup of tea and a chat and some Fun?\, we would love to see you.
URL:https://paisleysouth.church/event/family-beetle-drive/
LOCATION:Paisley South Church Hall\, 123 Rowan Street\, Paisley\, PA2 6RZ\, United Kingdom
CATEGORIES:Fund Raising
ATTACH;FMTTYPE=image/jpeg:https://paisleysouth.church/wp-content/uploads/2026/02/Beetle-Drive.jpg
END:VEVENT
BEGIN:VEVENT
DTSTART;TZID=Europe/London:20260315T100000
DTEND;TZID=Europe/London:20260315T103000
DTSTAMP:20260422T235821
CREATED:20260216T150137Z
LAST-MODIFIED:20260216T150137Z
UID:6873-1773568800-1773570600@paisleysouth.church
SUMMARY:Pre Service Choir Rehearsal
DESCRIPTION:Getting in tune
URL:https://paisleysouth.church/event/pre-service-choir-rehearsal-25/
LOCATION:Paisley South Church Hall\, 123 Rowan Street\, Paisley\, PA2 6RZ\, United Kingdom
CATEGORIES:Sunday goings on
ATTACH;FMTTYPE=image/jpeg:https://paisleysouth.church/wp-content/uploads/2024/11/PaisleySouthChurchOrgan-3.jpg
END:VEVENT
BEGIN:VEVENT
DTSTART;TZID=Europe/London:20260315T110000
DTEND;TZID=Europe/London:20260315T120000
DTSTAMP:20260422T235821
CREATED:20260216T150231Z
LAST-MODIFIED:20260216T150231Z
UID:6875-1773572400-1773576000@paisleysouth.church
SUMMARY:Sunday Morning Service
DESCRIPTION:Please see the Menu Tab for Worship Services / Upcomming Services\, for more detail or click Web Page button below. \n\n\n\nAssemble in the Main Hall – All are welcome.
URL:https://paisleysouth.church/event/sunday-morning-service-25/
LOCATION:Church\, 123 Rowan Street\, Paisley\, PA2 6RZ\, United Kingdom
CATEGORIES:Sunday goings on
ATTACH;FMTTYPE=image/jpeg:https://paisleysouth.church/wp-content/uploads/2024/10/PaisleySouthChurchOrgan-1.jpg
ORGANIZER;CN="David Hood":MAILTO:dhood@churchofscotland.org.uk
END:VEVENT
BEGIN:VEVENT
DTSTART;TZID=Europe/London:20260315T120000
DTEND;TZID=Europe/London:20260315T130000
DTSTAMP:20260422T235821
CREATED:20260216T150259Z
LAST-MODIFIED:20260216T150259Z
UID:6877-1773576000-1773579600@paisleysouth.church
SUMMARY:After Service Tea – Coffee
DESCRIPTION:Join us in the Medium hall for a Brew and a Biscuit
URL:https://paisleysouth.church/event/after-service-tea-coffee-25/
LOCATION:Paisley South Church Hall\, 123 Rowan Street\, Paisley\, PA2 6RZ\, United Kingdom
CATEGORIES:Sunday goings on
ATTACH;FMTTYPE=image/jpeg:https://paisleysouth.church/wp-content/uploads/2024/10/PaisleySouthtea-1.jpg
END:VEVENT
BEGIN:VEVENT
DTSTART;TZID=Europe/London:20260316T143000
DTEND;TZID=Europe/London:20260316T160000
DTSTAMP:20260422T235821
CREATED:20260216T150731Z
LAST-MODIFIED:20260216T150731Z
UID:6893-1773671400-1773676800@paisleysouth.church
SUMMARY:Let's Meet
DESCRIPTION:The Let’s Meet group gets together again to enjoy further adventures around Paisley South. \n\n\n\nNew members are all welcome.
URL:https://paisleysouth.church/event/lets-meet-11/
LOCATION:Paisley South Church Hall\, 123 Rowan Street\, Paisley\, PA2 6RZ\, United Kingdom
CATEGORIES:Tea and Chat
ATTACH;FMTTYPE=image/jpeg:https://paisleysouth.church/wp-content/uploads/2024/11/PaisleySouthLetsmeet-2.jpg
END:VEVENT
BEGIN:VEVENT
DTSTART;TZID=Europe/London:20260317T093000
DTEND;TZID=Europe/London:20260317T113000
DTSTAMP:20260422T235821
CREATED:20260216T151104Z
LAST-MODIFIED:20260216T151104Z
UID:6903-1773739800-1773747000@paisleysouth.church
SUMMARY:Rowan Street Toddler Group
DESCRIPTION:This adventure is for children up to 3 years old\, but only available during school term.
URL:https://paisleysouth.church/event/rowan-street-toddler-group-47/
LOCATION:Paisley South Church Hall\, 123 Rowan Street\, Paisley\, PA2 6RZ\, United Kingdom
CATEGORIES:Small People
ATTACH;FMTTYPE=image/jpeg:https://paisleysouth.church/wp-content/uploads/2024/10/PaisleySouthTodlers-1.jpg
END:VEVENT
BEGIN:VEVENT
DTSTART;TZID=Europe/London:20260317T100000
DTEND;TZID=Europe/London:20260317T120000
DTSTAMP:20260422T235821
CREATED:20260216T151517Z
LAST-MODIFIED:20260216T151517Z
UID:6917-1773741600-1773748800@paisleysouth.church
SUMMARY:Tearoom on a Tuesday
DESCRIPTION:Why dont you pop in for a cup of tea and a chat?\, we would love to see you.
URL:https://paisleysouth.church/event/tearoom-on-a-tuesday-22/
LOCATION:Paisley South Church Hall\, 123 Rowan Street\, Paisley\, PA2 6RZ\, United Kingdom
CATEGORIES:Tea and Chat
ATTACH;FMTTYPE=image/jpeg:https://paisleysouth.church/wp-content/uploads/2024/10/PaisleySouthTearoom-1.jpg
END:VEVENT
BEGIN:VEVENT
DTSTART;TZID=Europe/London:20260318T110000
DTEND;TZID=Europe/London:20260318T120000
DTSTAMP:20260422T235821
CREATED:20260216T151945Z
LAST-MODIFIED:20260216T151945Z
UID:6925-1773831600-1773835200@paisleysouth.church
SUMMARY:Wednesday Break
DESCRIPTION:Our meetings are a combination of worship\, music and fellowship. We provide tea/coffee and quality biscuits. \nFive ‘volunteers’ take it in turn to lead. We cover a wide range of topics using a variety of styles. \n\n\n\nAssemble in the Medium hall new members all are welcome.
URL:https://paisleysouth.church/event/wednesday-break-23/
LOCATION:Paisley South Church Hall\, 123 Rowan Street\, Paisley\, PA2 6RZ\, United Kingdom
CATEGORIES:Tea and Chat
ATTACH;FMTTYPE=image/jpeg:https://paisleysouth.church/wp-content/uploads/2024/11/PaisleySouthGen-2.jpg
END:VEVENT
BEGIN:VEVENT
DTSTART;TZID=Europe/London:20260319T093000
DTEND;TZID=Europe/London:20260319T113000
DTSTAMP:20260422T235821
CREATED:20260216T151139Z
LAST-MODIFIED:20260216T151139Z
UID:6905-1773912600-1773919800@paisleysouth.church
SUMMARY:Rowan Street Toddler Group
DESCRIPTION:This adventure is for children up to 3 years old\, but only available during school term.
URL:https://paisleysouth.church/event/rowan-street-toddler-group-48/
LOCATION:Paisley South Church Hall\, 123 Rowan Street\, Paisley\, PA2 6RZ\, United Kingdom
CATEGORIES:Small People
ATTACH;FMTTYPE=image/jpeg:https://paisleysouth.church/wp-content/uploads/2024/10/PaisleySouthTodlers-1.jpg
END:VEVENT
BEGIN:VEVENT
DTSTART;TZID=Europe/London:20260322T100000
DTEND;TZID=Europe/London:20260322T103000
DTSTAMP:20260422T235821
CREATED:20260216T150330Z
LAST-MODIFIED:20260216T150330Z
UID:6879-1774173600-1774175400@paisleysouth.church
SUMMARY:Pre Service Choir Rehearsal
DESCRIPTION:Getting in tune
URL:https://paisleysouth.church/event/pre-service-choir-rehearsal-26/
LOCATION:Paisley South Church Hall\, 123 Rowan Street\, Paisley\, PA2 6RZ\, United Kingdom
CATEGORIES:Sunday goings on
ATTACH;FMTTYPE=image/jpeg:https://paisleysouth.church/wp-content/uploads/2024/11/PaisleySouthChurchOrgan-3.jpg
END:VEVENT
BEGIN:VEVENT
DTSTART;TZID=Europe/London:20260322T110000
DTEND;TZID=Europe/London:20260322T120000
DTSTAMP:20260422T235821
CREATED:20260216T150354Z
LAST-MODIFIED:20260216T150354Z
UID:6881-1774177200-1774180800@paisleysouth.church
SUMMARY:Sunday Morning Service
DESCRIPTION:Please see the Menu Tab for Worship Services / Upcomming Services\, for more detail or click Web Page button below. \n\n\n\nAssemble in the Main Hall – All are welcome.
URL:https://paisleysouth.church/event/sunday-morning-service-26/
LOCATION:Church\, 123 Rowan Street\, Paisley\, PA2 6RZ\, United Kingdom
CATEGORIES:Sunday goings on
ATTACH;FMTTYPE=image/jpeg:https://paisleysouth.church/wp-content/uploads/2024/10/PaisleySouthChurchOrgan-1.jpg
ORGANIZER;CN="David Hood":MAILTO:dhood@churchofscotland.org.uk
END:VEVENT
END:VCALENDAR