BEGIN:VCALENDAR
VERSION:2.0
PRODID:-//Paisley South Church - ECPv6.15.20//NONSGML v1.0//EN
CALSCALE:GREGORIAN
METHOD:PUBLISH
X-ORIGINAL-URL:https://paisleysouth.church
X-WR-CALDESC:Events for Paisley South Church
REFRESH-INTERVAL;VALUE=DURATION:PT1H
X-Robots-Tag:noindex
X-PUBLISHED-TTL:PT1H
BEGIN:VTIMEZONE
TZID:Europe/London
BEGIN:DAYLIGHT
TZOFFSETFROM:+0000
TZOFFSETTO:+0100
TZNAME:BST
DTSTART:20250330T010000
END:DAYLIGHT
BEGIN:STANDARD
TZOFFSETFROM:+0100
TZOFFSETTO:+0000
TZNAME:GMT
DTSTART:20251026T010000
END:STANDARD
BEGIN:DAYLIGHT
TZOFFSETFROM:+0000
TZOFFSETTO:+0100
TZNAME:BST
DTSTART:20260329T010000
END:DAYLIGHT
BEGIN:STANDARD
TZOFFSETFROM:+0100
TZOFFSETTO:+0000
TZNAME:GMT
DTSTART:20261025T010000
END:STANDARD
BEGIN:DAYLIGHT
TZOFFSETFROM:+0000
TZOFFSETTO:+0100
TZNAME:BST
DTSTART:20270328T010000
END:DAYLIGHT
BEGIN:STANDARD
TZOFFSETFROM:+0100
TZOFFSETTO:+0000
TZNAME:GMT
DTSTART:20271031T010000
END:STANDARD
END:VTIMEZONE
BEGIN:VEVENT
DTSTART;TZID=Europe/London:20260505T100000
DTEND;TZID=Europe/London:20260505T120000
DTSTAMP:20260422T230449
CREATED:20260421T150430Z
LAST-MODIFIED:20260421T150430Z
UID:7143-1777975200-1777982400@paisleysouth.church
SUMMARY:Tearoom on a Tuesday
DESCRIPTION:Why dont you pop in for a cup of tea and a chat?\, we would love to see you.
URL:https://paisleysouth.church/event/tearoom-on-a-tuesday/
LOCATION:Paisley South Church Hall\, 123 Rowan Street\, Paisley\, PA2 6RZ\, United Kingdom
CATEGORIES:Tea and Chat
ATTACH;FMTTYPE=image/jpeg:https://paisleysouth.church/wp-content/uploads/2024/10/PaisleySouthTearoom-1.jpg
END:VEVENT
BEGIN:VEVENT
DTSTART;TZID=Europe/London:20260506T110000
DTEND;TZID=Europe/London:20260506T120000
DTSTAMP:20260422T230449
CREATED:20260421T150635Z
LAST-MODIFIED:20260421T150635Z
UID:7151-1778065200-1778068800@paisleysouth.church
SUMMARY:Wednesday Break
DESCRIPTION:Our meetings are a combination of worship\, music and fellowship. We provide tea/coffee and quality biscuits. \nFive ‘volunteers’ take it in turn to lead. We cover a wide range of topics using a variety of styles. \n\n\n\nAssemble in the Medium hall new members all are welcome.
URL:https://paisleysouth.church/event/wednesday-break/
LOCATION:Paisley South Church Hall\, 123 Rowan Street\, Paisley\, PA2 6RZ\, United Kingdom
CATEGORIES:Tea and Chat
ATTACH;FMTTYPE=image/jpeg:https://paisleysouth.church/wp-content/uploads/2024/11/PaisleySouthGen-2.jpg
END:VEVENT
BEGIN:VEVENT
DTSTART;TZID=Europe/London:20260512T100000
DTEND;TZID=Europe/London:20260512T120000
DTSTAMP:20260422T230449
CREATED:20260421T150455Z
LAST-MODIFIED:20260421T150455Z
UID:7145-1778580000-1778587200@paisleysouth.church
SUMMARY:Tearoom on a Tuesday
DESCRIPTION:Why dont you pop in for a cup of tea and a chat?\, we would love to see you.
URL:https://paisleysouth.church/event/tearoom-on-a-tuesday-2/
LOCATION:Paisley South Church Hall\, 123 Rowan Street\, Paisley\, PA2 6RZ\, United Kingdom
CATEGORIES:Tea and Chat
ATTACH;FMTTYPE=image/jpeg:https://paisleysouth.church/wp-content/uploads/2024/10/PaisleySouthTearoom-1.jpg
END:VEVENT
BEGIN:VEVENT
DTSTART;TZID=Europe/London:20260513T110000
DTEND;TZID=Europe/London:20260513T120000
DTSTAMP:20260422T230449
CREATED:20260421T150733Z
LAST-MODIFIED:20260421T150733Z
UID:7153-1778670000-1778673600@paisleysouth.church
SUMMARY:Wednesday Break
DESCRIPTION:Our meetings are a combination of worship\, music and fellowship. We provide tea/coffee and quality biscuits. \nFive ‘volunteers’ take it in turn to lead. We cover a wide range of topics using a variety of styles. \n\n\n\nAssemble in the Medium hall new members all are welcome.
URL:https://paisleysouth.church/event/wednesday-break-2/
LOCATION:Paisley South Church Hall\, 123 Rowan Street\, Paisley\, PA2 6RZ\, United Kingdom
CATEGORIES:Tea and Chat
ATTACH;FMTTYPE=image/jpeg:https://paisleysouth.church/wp-content/uploads/2024/11/PaisleySouthGen-2.jpg
END:VEVENT
BEGIN:VEVENT
DTSTART;TZID=Europe/London:20260518T143000
DTEND;TZID=Europe/London:20260518T160000
DTSTAMP:20260422T230449
CREATED:20260421T150127Z
LAST-MODIFIED:20260421T150127Z
UID:7133-1779114600-1779120000@paisleysouth.church
SUMMARY:Let's Meet
DESCRIPTION:The Let’s Meet group gets together again to enjoy further adventures around Paisley South. \n\n\n\nNew members are all welcome.
URL:https://paisleysouth.church/event/lets-meet-3/
LOCATION:Paisley South Church Hall\, 123 Rowan Street\, Paisley\, PA2 6RZ\, United Kingdom
CATEGORIES:Tea and Chat
ATTACH;FMTTYPE=image/jpeg:https://paisleysouth.church/wp-content/uploads/2024/11/PaisleySouthLetsmeet-2.jpg
END:VEVENT
BEGIN:VEVENT
DTSTART;TZID=Europe/London:20260519T100000
DTEND;TZID=Europe/London:20260519T120000
DTSTAMP:20260422T230449
CREATED:20260421T150524Z
LAST-MODIFIED:20260421T150524Z
UID:7147-1779184800-1779192000@paisleysouth.church
SUMMARY:Tearoom on a Tuesday
DESCRIPTION:Why dont you pop in for a cup of tea and a chat?\, we would love to see you.
URL:https://paisleysouth.church/event/tearoom-on-a-tuesday-3/
LOCATION:Paisley South Church Hall\, 123 Rowan Street\, Paisley\, PA2 6RZ\, United Kingdom
CATEGORIES:Tea and Chat
ATTACH;FMTTYPE=image/jpeg:https://paisleysouth.church/wp-content/uploads/2024/10/PaisleySouthTearoom-1.jpg
END:VEVENT
BEGIN:VEVENT
DTSTART;TZID=Europe/London:20260520T110000
DTEND;TZID=Europe/London:20260520T120000
DTSTAMP:20260422T230449
CREATED:20260421T150819Z
LAST-MODIFIED:20260421T150819Z
UID:7155-1779274800-1779278400@paisleysouth.church
SUMMARY:Wednesday Break
DESCRIPTION:Our meetings are a combination of worship\, music and fellowship. We provide tea/coffee and quality biscuits. \nFive ‘volunteers’ take it in turn to lead. We cover a wide range of topics using a variety of styles. \n\n\n\nAssemble in the Medium hall new members all are welcome.
URL:https://paisleysouth.church/event/wednesday-break-3/
LOCATION:Paisley South Church Hall\, 123 Rowan Street\, Paisley\, PA2 6RZ\, United Kingdom
CATEGORIES:Tea and Chat
ATTACH;FMTTYPE=image/jpeg:https://paisleysouth.church/wp-content/uploads/2024/11/PaisleySouthGen-2.jpg
END:VEVENT
BEGIN:VEVENT
DTSTART;TZID=Europe/London:20260526T100000
DTEND;TZID=Europe/London:20260526T120000
DTSTAMP:20260422T230449
CREATED:20260421T150551Z
LAST-MODIFIED:20260421T150551Z
UID:7149-1779789600-1779796800@paisleysouth.church
SUMMARY:Tearoom on a Tuesday
DESCRIPTION:Why dont you pop in for a cup of tea and a chat?\, we would love to see you.
URL:https://paisleysouth.church/event/tearoom-on-a-tuesday-4/
LOCATION:Paisley South Church Hall\, 123 Rowan Street\, Paisley\, PA2 6RZ\, United Kingdom
CATEGORIES:Tea and Chat
ATTACH;FMTTYPE=image/jpeg:https://paisleysouth.church/wp-content/uploads/2024/10/PaisleySouthTearoom-1.jpg
END:VEVENT
BEGIN:VEVENT
DTSTART;TZID=Europe/London:20260527T110000
DTEND;TZID=Europe/London:20260527T120000
DTSTAMP:20260422T230449
CREATED:20260421T150844Z
LAST-MODIFIED:20260421T150844Z
UID:7157-1779879600-1779883200@paisleysouth.church
SUMMARY:Wednesday Break
DESCRIPTION:Our meetings are a combination of worship\, music and fellowship. We provide tea/coffee and quality biscuits. \nFive ‘volunteers’ take it in turn to lead. We cover a wide range of topics using a variety of styles. \n\n\n\nAssemble in the Medium hall new members all are welcome.
URL:https://paisleysouth.church/event/wednesday-break-4/
LOCATION:Paisley South Church Hall\, 123 Rowan Street\, Paisley\, PA2 6RZ\, United Kingdom
CATEGORIES:Tea and Chat
ATTACH;FMTTYPE=image/jpeg:https://paisleysouth.church/wp-content/uploads/2024/11/PaisleySouthGen-2.jpg
END:VEVENT
BEGIN:VEVENT
DTSTART;TZID=Europe/London:20260529T120000
DTEND;TZID=Europe/London:20260529T130000
DTSTAMP:20260422T230449
CREATED:20260201T193104Z
LAST-MODIFIED:20260201T193104Z
UID:6842-1780056000-1780059600@paisleysouth.church
SUMMARY:Soup and Sandwitch Lunch
DESCRIPTION:Paisley South Church is inviting everyone to Soup and Sandwich. \n\n\n\nAll are Welcome.
URL:https://paisleysouth.church/event/soup-and-sandwitch-lunch-5/
LOCATION:Paisley South Church Hall\, 123 Rowan Street\, Paisley\, PA2 6RZ\, United Kingdom
CATEGORIES:Tea and Chat
ATTACH;FMTTYPE=image/jpeg:https://paisleysouth.church/wp-content/uploads/2024/10/PaisleySouthSoup-1.jpg
END:VEVENT
END:VCALENDAR