BEGIN:VCALENDAR
VERSION:2.0
PRODID:-//Paisley South Church - ECPv6.15.20//NONSGML v1.0//EN
CALSCALE:GREGORIAN
METHOD:PUBLISH
X-WR-CALNAME:Paisley South Church
X-ORIGINAL-URL:https://paisleysouth.church
X-WR-CALDESC:Events for Paisley South Church
REFRESH-INTERVAL;VALUE=DURATION:PT1H
X-Robots-Tag:noindex
X-PUBLISHED-TTL:PT1H
BEGIN:VTIMEZONE
TZID:Europe/London
BEGIN:DAYLIGHT
TZOFFSETFROM:+0000
TZOFFSETTO:+0100
TZNAME:BST
DTSTART:20250330T010000
END:DAYLIGHT
BEGIN:STANDARD
TZOFFSETFROM:+0100
TZOFFSETTO:+0000
TZNAME:GMT
DTSTART:20251026T010000
END:STANDARD
BEGIN:DAYLIGHT
TZOFFSETFROM:+0000
TZOFFSETTO:+0100
TZNAME:BST
DTSTART:20260329T010000
END:DAYLIGHT
BEGIN:STANDARD
TZOFFSETFROM:+0100
TZOFFSETTO:+0000
TZNAME:GMT
DTSTART:20261025T010000
END:STANDARD
BEGIN:DAYLIGHT
TZOFFSETFROM:+0000
TZOFFSETTO:+0100
TZNAME:BST
DTSTART:20270328T010000
END:DAYLIGHT
BEGIN:STANDARD
TZOFFSETFROM:+0100
TZOFFSETTO:+0000
TZNAME:GMT
DTSTART:20271031T010000
END:STANDARD
END:VTIMEZONE
BEGIN:VEVENT
DTSTART;TZID=Europe/London:20260201T100000
DTEND;TZID=Europe/London:20260201T103000
DTSTAMP:20260422T231042
CREATED:20260121T172808Z
LAST-MODIFIED:20260121T172808Z
UID:6767-1769940000-1769941800@paisleysouth.church
SUMMARY:Pre Service Choir Rehearsal
DESCRIPTION:Getting in tune
URL:https://paisleysouth.church/event/pre-service-choir-rehearsal-18/
LOCATION:Paisley South Church Hall\, 123 Rowan Street\, Paisley\, PA2 6RZ\, United Kingdom
CATEGORIES:Sunday goings on
ATTACH;FMTTYPE=image/jpeg:https://paisleysouth.church/wp-content/uploads/2024/11/PaisleySouthChurchOrgan-3.jpg
END:VEVENT
BEGIN:VEVENT
DTSTART;TZID=Europe/London:20260201T110000
DTEND;TZID=Europe/London:20260201T120000
DTSTAMP:20260422T231042
CREATED:20260121T173059Z
LAST-MODIFIED:20260121T173059Z
UID:6775-1769943600-1769947200@paisleysouth.church
SUMMARY:Sunday Morning Service
DESCRIPTION:Please see the Menu Tab for Worship Services / Upcomming Services\, for more detail or click Web Page button below. \n\n\n\nAssemble in the Main Hall – All are welcome.
URL:https://paisleysouth.church/event/sunday-morning-service-18/
LOCATION:Church\, 123 Rowan Street\, Paisley\, PA2 6RZ\, United Kingdom
CATEGORIES:Sunday goings on
ATTACH;FMTTYPE=image/jpeg:https://paisleysouth.church/wp-content/uploads/2024/10/PaisleySouthChurchOrgan-1.jpg
ORGANIZER;CN="David Hood":MAILTO:dhood@churchofscotland.org.uk
END:VEVENT
BEGIN:VEVENT
DTSTART;TZID=Europe/London:20260201T120000
DTEND;TZID=Europe/London:20260201T130000
DTSTAMP:20260422T231042
CREATED:20260121T173251Z
LAST-MODIFIED:20260121T173251Z
UID:6783-1769947200-1769950800@paisleysouth.church
SUMMARY:After Service Tea – Coffee
DESCRIPTION:Join us in the Medium hall for a Brew and a Biscuit
URL:https://paisleysouth.church/event/after-service-tea-coffee-18/
LOCATION:Paisley South Church Hall\, 123 Rowan Street\, Paisley\, PA2 6RZ\, United Kingdom
CATEGORIES:Sunday goings on
ATTACH;FMTTYPE=image/jpeg:https://paisleysouth.church/wp-content/uploads/2024/10/PaisleySouthtea-1.jpg
END:VEVENT
END:VCALENDAR