BEGIN:VCALENDAR
VERSION:2.0
PRODID:-//Paisley South Church - ECPv6.15.20//NONSGML v1.0//EN
CALSCALE:GREGORIAN
METHOD:PUBLISH
X-WR-CALNAME:Paisley South Church
X-ORIGINAL-URL:https://paisleysouth.church
X-WR-CALDESC:Events for Paisley South Church
REFRESH-INTERVAL;VALUE=DURATION:PT1H
X-Robots-Tag:noindex
X-PUBLISHED-TTL:PT1H
BEGIN:VTIMEZONE
TZID:Europe/London
BEGIN:DAYLIGHT
TZOFFSETFROM:+0000
TZOFFSETTO:+0100
TZNAME:BST
DTSTART:20250330T010000
END:DAYLIGHT
BEGIN:STANDARD
TZOFFSETFROM:+0100
TZOFFSETTO:+0000
TZNAME:GMT
DTSTART:20251026T010000
END:STANDARD
BEGIN:DAYLIGHT
TZOFFSETFROM:+0000
TZOFFSETTO:+0100
TZNAME:BST
DTSTART:20260329T010000
END:DAYLIGHT
BEGIN:STANDARD
TZOFFSETFROM:+0100
TZOFFSETTO:+0000
TZNAME:GMT
DTSTART:20261025T010000
END:STANDARD
BEGIN:DAYLIGHT
TZOFFSETFROM:+0000
TZOFFSETTO:+0100
TZNAME:BST
DTSTART:20270328T010000
END:DAYLIGHT
BEGIN:STANDARD
TZOFFSETFROM:+0100
TZOFFSETTO:+0000
TZNAME:GMT
DTSTART:20271031T010000
END:STANDARD
END:VTIMEZONE
BEGIN:VEVENT
DTSTART;TZID=Europe/London:20260310T093000
DTEND;TZID=Europe/London:20260310T113000
DTSTAMP:20260422T203632
CREATED:20260216T150955Z
LAST-MODIFIED:20260216T150955Z
UID:6899-1773135000-1773142200@paisleysouth.church
SUMMARY:Rowan Street Toddler Group
DESCRIPTION:This adventure is for children up to 3 years old\, but only available during school term.
URL:https://paisleysouth.church/event/rowan-street-toddler-group-45/
LOCATION:Paisley South Church Hall\, 123 Rowan Street\, Paisley\, PA2 6RZ\, United Kingdom
CATEGORIES:Small People
ATTACH;FMTTYPE=image/jpeg:https://paisleysouth.church/wp-content/uploads/2024/10/PaisleySouthTodlers-1.jpg
END:VEVENT
BEGIN:VEVENT
DTSTART;TZID=Europe/London:20260305T093000
DTEND;TZID=Europe/London:20260305T113000
DTSTAMP:20260422T203632
CREATED:20260216T150907Z
LAST-MODIFIED:20260216T150907Z
UID:6897-1772703000-1772710200@paisleysouth.church
SUMMARY:Rowan Street Toddler Group
DESCRIPTION:This adventure is for children up to 3 years old\, but only available during school term.
URL:https://paisleysouth.church/event/rowan-street-toddler-group-44/
LOCATION:Paisley South Church Hall\, 123 Rowan Street\, Paisley\, PA2 6RZ\, United Kingdom
CATEGORIES:Small People
ATTACH;FMTTYPE=image/jpeg:https://paisleysouth.church/wp-content/uploads/2024/10/PaisleySouthTodlers-1.jpg
END:VEVENT
BEGIN:VEVENT
DTSTART;TZID=Europe/London:20260303T093000
DTEND;TZID=Europe/London:20260303T113000
DTSTAMP:20260422T203632
CREATED:20260216T150833Z
LAST-MODIFIED:20260216T150833Z
UID:6895-1772530200-1772537400@paisleysouth.church
SUMMARY:Rowan Street Toddler Group
DESCRIPTION:This adventure is for children up to 3 years old\, but only available during school term.
URL:https://paisleysouth.church/event/rowan-street-toddler-group-43/
LOCATION:Paisley South Church Hall\, 123 Rowan Street\, Paisley\, PA2 6RZ\, United Kingdom
CATEGORIES:Small People
ATTACH;FMTTYPE=image/jpeg:https://paisleysouth.church/wp-content/uploads/2024/10/PaisleySouthTodlers-1.jpg
END:VEVENT
BEGIN:VEVENT
DTSTART;TZID=Europe/London:20260226T093000
DTEND;TZID=Europe/London:20260226T113000
DTSTAMP:20260422T203632
CREATED:20260121T174046Z
LAST-MODIFIED:20260121T174046Z
UID:6805-1772098200-1772105400@paisleysouth.church
SUMMARY:Rowan Street Toddler Group
DESCRIPTION:This adventure is for children up to 3 years old\, but only available during school term.
URL:https://paisleysouth.church/event/rowan-street-toddler-group-42/
LOCATION:Paisley South Church Hall\, 123 Rowan Street\, Paisley\, PA2 6RZ\, United Kingdom
CATEGORIES:Small People
ATTACH;FMTTYPE=image/jpeg:https://paisleysouth.church/wp-content/uploads/2024/10/PaisleySouthTodlers-1.jpg
END:VEVENT
BEGIN:VEVENT
DTSTART;TZID=Europe/London:20260224T093000
DTEND;TZID=Europe/London:20260224T113000
DTSTAMP:20260422T203632
CREATED:20260121T173832Z
LAST-MODIFIED:20260121T173832Z
UID:6803-1771925400-1771932600@paisleysouth.church
SUMMARY:Rowan Street Toddler Group
DESCRIPTION:This adventure is for children up to 3 years old\, but only available during school term.
URL:https://paisleysouth.church/event/rowan-street-toddler-group-41/
LOCATION:Paisley South Church Hall\, 123 Rowan Street\, Paisley\, PA2 6RZ\, United Kingdom
CATEGORIES:Small People
ATTACH;FMTTYPE=image/jpeg:https://paisleysouth.church/wp-content/uploads/2024/10/PaisleySouthTodlers-1.jpg
END:VEVENT
BEGIN:VEVENT
DTSTART;TZID=Europe/London:20260219T093000
DTEND;TZID=Europe/London:20260219T113000
DTSTAMP:20260422T203632
CREATED:20260121T173739Z
LAST-MODIFIED:20260121T173810Z
UID:6801-1771493400-1771500600@paisleysouth.church
SUMMARY:Rowan Street Toddler Group
DESCRIPTION:This adventure is for children up to 3 years old\, but only available during school term.
URL:https://paisleysouth.church/event/rowan-street-toddler-group-40/
LOCATION:Paisley South Church Hall\, 123 Rowan Street\, Paisley\, PA2 6RZ\, United Kingdom
CATEGORIES:Small People
ATTACH;FMTTYPE=image/jpeg:https://paisleysouth.church/wp-content/uploads/2024/10/PaisleySouthTodlers-1.jpg
END:VEVENT
BEGIN:VEVENT
DTSTART;TZID=Europe/London:20260217T093000
DTEND;TZID=Europe/London:20260217T113000
DTSTAMP:20260422T203632
CREATED:20260121T173713Z
LAST-MODIFIED:20260121T173713Z
UID:6799-1771320600-1771327800@paisleysouth.church
SUMMARY:Rowan Street Toddler Group
DESCRIPTION:This adventure is for children up to 3 years old\, but only available during school term.
URL:https://paisleysouth.church/event/rowan-street-toddler-group-39/
LOCATION:Paisley South Church Hall\, 123 Rowan Street\, Paisley\, PA2 6RZ\, United Kingdom
CATEGORIES:Small People
ATTACH;FMTTYPE=image/jpeg:https://paisleysouth.church/wp-content/uploads/2024/10/PaisleySouthTodlers-1.jpg
END:VEVENT
BEGIN:VEVENT
DTSTART;TZID=Europe/London:20260212T093000
DTEND;TZID=Europe/London:20260212T113000
DTSTAMP:20260422T203632
CREATED:20260121T173650Z
LAST-MODIFIED:20260121T173650Z
UID:6797-1770888600-1770895800@paisleysouth.church
SUMMARY:Rowan Street Toddler Group
DESCRIPTION:This adventure is for children up to 3 years old\, but only available during school term.
URL:https://paisleysouth.church/event/rowan-street-toddler-group-38/
LOCATION:Paisley South Church Hall\, 123 Rowan Street\, Paisley\, PA2 6RZ\, United Kingdom
CATEGORIES:Small People
ATTACH;FMTTYPE=image/jpeg:https://paisleysouth.church/wp-content/uploads/2024/10/PaisleySouthTodlers-1.jpg
END:VEVENT
BEGIN:VEVENT
DTSTART;TZID=Europe/London:20260210T093000
DTEND;TZID=Europe/London:20260210T113000
DTSTAMP:20260422T203632
CREATED:20260121T173608Z
LAST-MODIFIED:20260121T173608Z
UID:6795-1770715800-1770723000@paisleysouth.church
SUMMARY:Rowan Street Toddler Group
DESCRIPTION:This adventure is for children up to 3 years old\, but only available during school term.
URL:https://paisleysouth.church/event/rowan-street-toddler-group-37/
LOCATION:Paisley South Church Hall\, 123 Rowan Street\, Paisley\, PA2 6RZ\, United Kingdom
CATEGORIES:Small People
ATTACH;FMTTYPE=image/jpeg:https://paisleysouth.church/wp-content/uploads/2024/10/PaisleySouthTodlers-1.jpg
END:VEVENT
BEGIN:VEVENT
DTSTART;TZID=Europe/London:20260205T093000
DTEND;TZID=Europe/London:20260205T113000
DTSTAMP:20260422T203632
CREATED:20260121T173543Z
LAST-MODIFIED:20260121T173543Z
UID:6793-1770283800-1770291000@paisleysouth.church
SUMMARY:Rowan Street Toddler Group
DESCRIPTION:This adventure is for children up to 3 years old\, but only available during school term.
URL:https://paisleysouth.church/event/rowan-street-toddler-group-36/
LOCATION:Paisley South Church Hall\, 123 Rowan Street\, Paisley\, PA2 6RZ\, United Kingdom
CATEGORIES:Small People
ATTACH;FMTTYPE=image/jpeg:https://paisleysouth.church/wp-content/uploads/2024/10/PaisleySouthTodlers-1.jpg
END:VEVENT
BEGIN:VEVENT
DTSTART;TZID=Europe/London:20260203T093000
DTEND;TZID=Europe/London:20260203T113000
DTSTAMP:20260422T203632
CREATED:20260121T173507Z
LAST-MODIFIED:20260121T173507Z
UID:6791-1770111000-1770118200@paisleysouth.church
SUMMARY:Rowan Street Toddler Group
DESCRIPTION:This adventure is for children up to 3 years old\, but only available during school term.
URL:https://paisleysouth.church/event/rowan-street-toddler-group-35/
LOCATION:Paisley South Church Hall\, 123 Rowan Street\, Paisley\, PA2 6RZ\, United Kingdom
CATEGORIES:Small People
ATTACH;FMTTYPE=image/jpeg:https://paisleysouth.church/wp-content/uploads/2024/10/PaisleySouthTodlers-1.jpg
END:VEVENT
BEGIN:VEVENT
DTSTART;TZID=Europe/London:20260129T093000
DTEND;TZID=Europe/London:20260129T113000
DTSTAMP:20260422T203632
CREATED:20251229T162801Z
LAST-MODIFIED:20251229T162818Z
UID:6702-1769679000-1769686200@paisleysouth.church
SUMMARY:Rowan Street Toddler Group
DESCRIPTION:This adventure is for children up to 3 years old\, but only available during school term.
URL:https://paisleysouth.church/event/rowan-street-toddler-group-22/
LOCATION:Paisley South Church Hall\, 123 Rowan Street\, Paisley\, PA2 6RZ\, United Kingdom
CATEGORIES:Small People
ATTACH;FMTTYPE=image/jpeg:https://paisleysouth.church/wp-content/uploads/2024/10/PaisleySouthTodlers-1.jpg
END:VEVENT
BEGIN:VEVENT
DTSTART;TZID=Europe/London:20260127T093000
DTEND;TZID=Europe/London:20260127T113000
DTSTAMP:20260422T203632
CREATED:20251229T162736Z
LAST-MODIFIED:20251229T162736Z
UID:6700-1769506200-1769513400@paisleysouth.church
SUMMARY:Rowan Street Toddler Group
DESCRIPTION:This adventure is for children up to 3 years old\, but only available during school term.
URL:https://paisleysouth.church/event/rowan-street-toddler-group-21/
LOCATION:Paisley South Church Hall\, 123 Rowan Street\, Paisley\, PA2 6RZ\, United Kingdom
CATEGORIES:Small People
ATTACH;FMTTYPE=image/jpeg:https://paisleysouth.church/wp-content/uploads/2024/10/PaisleySouthTodlers-1.jpg
END:VEVENT
BEGIN:VEVENT
DTSTART;TZID=Europe/London:20260122T093000
DTEND;TZID=Europe/London:20260122T113000
DTSTAMP:20260422T203632
CREATED:20251229T162705Z
LAST-MODIFIED:20251229T162705Z
UID:6698-1769074200-1769081400@paisleysouth.church
SUMMARY:Rowan Street Toddler Group
DESCRIPTION:This adventure is for children up to 3 years old\, but only available during school term.
URL:https://paisleysouth.church/event/rowan-street-toddler-group-20/
LOCATION:Paisley South Church Hall\, 123 Rowan Street\, Paisley\, PA2 6RZ\, United Kingdom
CATEGORIES:Small People
ATTACH;FMTTYPE=image/jpeg:https://paisleysouth.church/wp-content/uploads/2024/10/PaisleySouthTodlers-1.jpg
END:VEVENT
BEGIN:VEVENT
DTSTART;TZID=Europe/London:20260120T093000
DTEND;TZID=Europe/London:20260120T113000
DTSTAMP:20260422T203632
CREATED:20251229T161917Z
LAST-MODIFIED:20251229T161955Z
UID:6695-1768901400-1768908600@paisleysouth.church
SUMMARY:Rowan Street Toddler Group
DESCRIPTION:This adventure is for children up to 3 years old\, but only available during school term.
URL:https://paisleysouth.church/event/rowan-street-toddler-group-8/
LOCATION:Paisley South Church Hall\, 123 Rowan Street\, Paisley\, PA2 6RZ\, United Kingdom
CATEGORIES:Small People
ATTACH;FMTTYPE=image/jpeg:https://paisleysouth.church/wp-content/uploads/2024/10/PaisleySouthTodlers-1.jpg
END:VEVENT
END:VCALENDAR